BEGIN:VCALENDAR
VERSION:2.0
PRODID:-//Placitas Library - ECPv6.15.17.1//NONSGML v1.0//EN
CALSCALE:GREGORIAN
METHOD:PUBLISH
X-WR-CALNAME:Placitas Library
X-ORIGINAL-URL:https://placitaslibrary.com
X-WR-CALDESC:Events for Placitas Library
REFRESH-INTERVAL;VALUE=DURATION:PT1H
X-Robots-Tag:noindex
X-PUBLISHED-TTL:PT1H
BEGIN:VTIMEZONE
TZID:America/Denver
BEGIN:DAYLIGHT
TZOFFSETFROM:-0700
TZOFFSETTO:-0600
TZNAME:MDT
DTSTART:20250309T090000
END:DAYLIGHT
BEGIN:STANDARD
TZOFFSETFROM:-0600
TZOFFSETTO:-0700
TZNAME:MST
DTSTART:20251102T080000
END:STANDARD
BEGIN:DAYLIGHT
TZOFFSETFROM:-0700
TZOFFSETTO:-0600
TZNAME:MDT
DTSTART:20260308T090000
END:DAYLIGHT
BEGIN:STANDARD
TZOFFSETFROM:-0600
TZOFFSETTO:-0700
TZNAME:MST
DTSTART:20261101T080000
END:STANDARD
BEGIN:DAYLIGHT
TZOFFSETFROM:-0700
TZOFFSETTO:-0600
TZNAME:MDT
DTSTART:20270314T090000
END:DAYLIGHT
BEGIN:STANDARD
TZOFFSETFROM:-0600
TZOFFSETTO:-0700
TZNAME:MST
DTSTART:20271107T080000
END:STANDARD
END:VTIMEZONE
BEGIN:VEVENT
DTSTART;VALUE=DATE:20260414
DTEND;VALUE=DATE:20260511
DTSTAMP:20260421T052707
CREATED:20251210T144108Z
LAST-MODIFIED:20260421T003045Z
UID:10001776-1776124800-1778457599@placitaslibrary.com
SUMMARY:April 2026 - Placitas Studio Tour Preview Exhibit
DESCRIPTION:Join us for a special preview of the 29th Annual Placitas Studio Tour Preview Exhibit\, featuring the work of 62 Placitas artists who create right here in our own community. \nThe Preview Exhibit opens on April 14th and runs through May 10th\, organized by studio number and neighborhood – the perfect way to plan your tour before Mother’s Day weekend! \nStudio Tour dates/times:\nFriday\, May 8\nSaturday\, May 9\nSunday\, May 10\n10:00 am to 5:00 pm daily\nhttps://placitasstudiotour.org/ \nCoordinator: Colleen Gregoire & John Streicher \nCheck out the artwork! \nhttps://www.youtube.com/watch?v=4197L3nuSB8
URL:https://placitaslibrary.com/event/april-2026-placitas-studio-tour-preview-exhibit/
LOCATION:NM
CATEGORIES:Art Exhibit,Library Schedule
ATTACH;FMTTYPE=image/jpeg:https://placitaslibrary.com/wp-content/uploads/2025/12/PST-at-PCL-brochure-ad-May-8-9-10.jpg
END:VEVENT
BEGIN:VEVENT
DTSTART;TZID=America/Denver:20260415T100000
DTEND;TZID=America/Denver:20260415T110000
DTSTAMP:20260421T052707
CREATED:20240917T201621Z
LAST-MODIFIED:20240919T041703Z
UID:10001510-1776247200-1776250800@placitaslibrary.com
SUMMARY:La Parranda: Club de Español
DESCRIPTION:La Parranda: Club de Español (Every Wed at 10 AM): Enjoy the opportunity to experience español with Diane Herrera Shepard and other guests. The Club is open to anyone who wants to learn\, use\, practice\, or converse in Spanish.
URL:https://placitaslibrary.com/event/la-parranda-club-de-espanol/2026-04-15/
LOCATION:Placitas Community Library\, 453 HWY 165\, Placitas\, NM\, 87043\, United States
CATEGORIES:Adult Programs
ATTACH;FMTTYPE=image/jpeg:https://placitaslibrary.com/wp-content/uploads/2024/05/LA-Parranda-Spanish-Club.jpg
END:VEVENT
END:VCALENDAR