BEGIN:VCALENDAR
VERSION:2.0
PRODID:-//Placitas Library - ECPv6.15.20//NONSGML v1.0//EN
CALSCALE:GREGORIAN
METHOD:PUBLISH
X-ORIGINAL-URL:https://placitaslibrary.com
X-WR-CALDESC:Events for Placitas Library
REFRESH-INTERVAL;VALUE=DURATION:PT1H
X-Robots-Tag:noindex
X-PUBLISHED-TTL:PT1H
BEGIN:VTIMEZONE
TZID:America/Denver
BEGIN:DAYLIGHT
TZOFFSETFROM:-0700
TZOFFSETTO:-0600
TZNAME:MDT
DTSTART:20240310T090000
END:DAYLIGHT
BEGIN:STANDARD
TZOFFSETFROM:-0600
TZOFFSETTO:-0700
TZNAME:MST
DTSTART:20241103T080000
END:STANDARD
BEGIN:DAYLIGHT
TZOFFSETFROM:-0700
TZOFFSETTO:-0600
TZNAME:MDT
DTSTART:20250309T090000
END:DAYLIGHT
BEGIN:STANDARD
TZOFFSETFROM:-0600
TZOFFSETTO:-0700
TZNAME:MST
DTSTART:20251102T080000
END:STANDARD
BEGIN:DAYLIGHT
TZOFFSETFROM:-0700
TZOFFSETTO:-0600
TZNAME:MDT
DTSTART:20260308T090000
END:DAYLIGHT
BEGIN:STANDARD
TZOFFSETFROM:-0600
TZOFFSETTO:-0700
TZNAME:MST
DTSTART:20261101T080000
END:STANDARD
END:VTIMEZONE
BEGIN:VEVENT
DTSTART;TZID=America/Denver:20251203T100000
DTEND;TZID=America/Denver:20251203T110000
DTSTAMP:20260423T044854
CREATED:20240917T201621Z
LAST-MODIFIED:20240919T041703Z
UID:10001491-1764756000-1764759600@placitaslibrary.com
SUMMARY:La Parranda: Club de Español
DESCRIPTION:La Parranda: Club de Español (Every Wed at 10 AM): Enjoy the opportunity to experience español with Diane Herrera Shepard and other guests. The Club is open to anyone who wants to learn\, use\, practice\, or converse in Spanish.
URL:https://placitaslibrary.com/event/la-parranda-club-de-espanol/2025-12-03/
LOCATION:Placitas Community Library\, 453 HWY 165\, Placitas\, NM\, 87043\, United States
CATEGORIES:Adult Programs
ATTACH;FMTTYPE=image/jpeg:https://placitaslibrary.com/wp-content/uploads/2024/05/LA-Parranda-Spanish-Club.jpg
END:VEVENT
BEGIN:VEVENT
DTSTART;TZID=America/Denver:20251210T100000
DTEND;TZID=America/Denver:20251210T110000
DTSTAMP:20260423T044854
CREATED:20240917T201621Z
LAST-MODIFIED:20240919T041703Z
UID:10001492-1765360800-1765364400@placitaslibrary.com
SUMMARY:La Parranda: Club de Español
DESCRIPTION:La Parranda: Club de Español (Every Wed at 10 AM): Enjoy the opportunity to experience español with Diane Herrera Shepard and other guests. The Club is open to anyone who wants to learn\, use\, practice\, or converse in Spanish.
URL:https://placitaslibrary.com/event/la-parranda-club-de-espanol/2025-12-10/
LOCATION:Placitas Community Library\, 453 HWY 165\, Placitas\, NM\, 87043\, United States
CATEGORIES:Adult Programs
ATTACH;FMTTYPE=image/jpeg:https://placitaslibrary.com/wp-content/uploads/2024/05/LA-Parranda-Spanish-Club.jpg
END:VEVENT
BEGIN:VEVENT
DTSTART;TZID=America/Denver:20251217T100000
DTEND;TZID=America/Denver:20251217T110000
DTSTAMP:20260423T044854
CREATED:20240917T201621Z
LAST-MODIFIED:20240919T041703Z
UID:10001493-1765965600-1765969200@placitaslibrary.com
SUMMARY:La Parranda: Club de Español
DESCRIPTION:La Parranda: Club de Español (Every Wed at 10 AM): Enjoy the opportunity to experience español with Diane Herrera Shepard and other guests. The Club is open to anyone who wants to learn\, use\, practice\, or converse in Spanish.
URL:https://placitaslibrary.com/event/la-parranda-club-de-espanol/2025-12-17/
LOCATION:Placitas Community Library\, 453 HWY 165\, Placitas\, NM\, 87043\, United States
CATEGORIES:Adult Programs
ATTACH;FMTTYPE=image/jpeg:https://placitaslibrary.com/wp-content/uploads/2024/05/LA-Parranda-Spanish-Club.jpg
END:VEVENT
BEGIN:VEVENT
DTSTART;TZID=America/Denver:20251224T100000
DTEND;TZID=America/Denver:20251224T110000
DTSTAMP:20260423T044854
CREATED:20240917T201621Z
LAST-MODIFIED:20240919T041703Z
UID:10001494-1766570400-1766574000@placitaslibrary.com
SUMMARY:La Parranda: Club de Español
DESCRIPTION:La Parranda: Club de Español (Every Wed at 10 AM): Enjoy the opportunity to experience español with Diane Herrera Shepard and other guests. The Club is open to anyone who wants to learn\, use\, practice\, or converse in Spanish.
URL:https://placitaslibrary.com/event/la-parranda-club-de-espanol/2025-12-24/
LOCATION:Placitas Community Library\, 453 HWY 165\, Placitas\, NM\, 87043\, United States
CATEGORIES:Adult Programs
ATTACH;FMTTYPE=image/jpeg:https://placitaslibrary.com/wp-content/uploads/2024/05/LA-Parranda-Spanish-Club.jpg
END:VEVENT
BEGIN:VEVENT
DTSTART;TZID=America/Denver:20251231T100000
DTEND;TZID=America/Denver:20251231T110000
DTSTAMP:20260423T044854
CREATED:20240917T201621Z
LAST-MODIFIED:20240919T041703Z
UID:10001495-1767175200-1767178800@placitaslibrary.com
SUMMARY:La Parranda: Club de Español
DESCRIPTION:La Parranda: Club de Español (Every Wed at 10 AM): Enjoy the opportunity to experience español with Diane Herrera Shepard and other guests. The Club is open to anyone who wants to learn\, use\, practice\, or converse in Spanish.
URL:https://placitaslibrary.com/event/la-parranda-club-de-espanol/2025-12-31/
LOCATION:Placitas Community Library\, 453 HWY 165\, Placitas\, NM\, 87043\, United States
CATEGORIES:Adult Programs
ATTACH;FMTTYPE=image/jpeg:https://placitaslibrary.com/wp-content/uploads/2024/05/LA-Parranda-Spanish-Club.jpg
END:VEVENT
END:VCALENDAR