BEGIN:VCALENDAR
VERSION:2.0
PRODID:-//Placitas Library - ECPv6.15.20//NONSGML v1.0//EN
CALSCALE:GREGORIAN
METHOD:PUBLISH
X-ORIGINAL-URL:https://placitaslibrary.com
X-WR-CALDESC:Events for Placitas Library
REFRESH-INTERVAL;VALUE=DURATION:PT1H
X-Robots-Tag:noindex
X-PUBLISHED-TTL:PT1H
BEGIN:VTIMEZONE
TZID:America/Edmonton
BEGIN:DAYLIGHT
TZOFFSETFROM:-0700
TZOFFSETTO:-0600
TZNAME:MDT
DTSTART:20200308T090000
END:DAYLIGHT
BEGIN:STANDARD
TZOFFSETFROM:-0600
TZOFFSETTO:-0700
TZNAME:MST
DTSTART:20201101T080000
END:STANDARD
BEGIN:DAYLIGHT
TZOFFSETFROM:-0700
TZOFFSETTO:-0600
TZNAME:MDT
DTSTART:20210314T090000
END:DAYLIGHT
BEGIN:STANDARD
TZOFFSETFROM:-0600
TZOFFSETTO:-0700
TZNAME:MST
DTSTART:20211107T080000
END:STANDARD
BEGIN:DAYLIGHT
TZOFFSETFROM:-0700
TZOFFSETTO:-0600
TZNAME:MDT
DTSTART:20220313T090000
END:DAYLIGHT
BEGIN:STANDARD
TZOFFSETFROM:-0600
TZOFFSETTO:-0700
TZNAME:MST
DTSTART:20221106T080000
END:STANDARD
END:VTIMEZONE
BEGIN:VEVENT
DTSTART;TZID=America/Edmonton:20210415T080000
DTEND;TZID=America/Edmonton:20210415T170000
DTSTAMP:20260425T095351
CREATED:20210326T222235Z
LAST-MODIFIED:20210326T222235Z
UID:10001145-1618473600-1618506000@placitaslibrary.com
SUMMARY:Celebrate Earth Day
DESCRIPTION:Celebrate Earth Day with activities bags created by our children’s committee.  There are a variety of activities for children of different ages. \nThere will be 15 bags available on a first-come\, first-served basis.  We hope your children enjoy them. \nPick-up dates include: \n\nThursday\, April 15 – 10 a.m. to 2 p.m.\nSaturday\, April 17 – 1 p.m. to 5 p.m.\nTuesday\, April 20 – 3 p.m. to 7 p.m.\nEARTH DAY April 22 – 10 a.m. to 2 p.m.\n\nDownload the flyer. 
URL:https://placitaslibrary.com/event/celebrate-earth-day/
LOCATION:Placitas Community Library\, 453 HWY 165\, Placitas\, NM\, 87043\, United States
CATEGORIES:Children's Programs,Library Schedule
ATTACH;FMTTYPE=image/png:https://placitaslibrary.com/wp-content/uploads/2024/03/Earth-Day-Post-image.png
END:VEVENT
END:VCALENDAR