BEGIN:VCALENDAR
VERSION:2.0
PRODID:-//Placitas Library - ECPv6.15.20//NONSGML v1.0//EN
CALSCALE:GREGORIAN
METHOD:PUBLISH
X-ORIGINAL-URL:https://placitaslibrary.com
X-WR-CALDESC:Events for Placitas Library
REFRESH-INTERVAL;VALUE=DURATION:PT1H
X-Robots-Tag:noindex
X-PUBLISHED-TTL:PT1H
BEGIN:VTIMEZONE
TZID:America/Edmonton
BEGIN:DAYLIGHT
TZOFFSETFROM:-0700
TZOFFSETTO:-0600
TZNAME:MDT
DTSTART:20200308T090000
END:DAYLIGHT
BEGIN:STANDARD
TZOFFSETFROM:-0600
TZOFFSETTO:-0700
TZNAME:MST
DTSTART:20201101T080000
END:STANDARD
BEGIN:DAYLIGHT
TZOFFSETFROM:-0700
TZOFFSETTO:-0600
TZNAME:MDT
DTSTART:20210314T090000
END:DAYLIGHT
BEGIN:STANDARD
TZOFFSETFROM:-0600
TZOFFSETTO:-0700
TZNAME:MST
DTSTART:20211107T080000
END:STANDARD
BEGIN:DAYLIGHT
TZOFFSETFROM:-0700
TZOFFSETTO:-0600
TZNAME:MDT
DTSTART:20220313T090000
END:DAYLIGHT
BEGIN:STANDARD
TZOFFSETFROM:-0600
TZOFFSETTO:-0700
TZNAME:MST
DTSTART:20221106T080000
END:STANDARD
END:VTIMEZONE
BEGIN:VEVENT
DTSTART;TZID=America/Edmonton:20210612T100000
DTEND;TZID=America/Edmonton:20210612T110000
DTSTAMP:20260425T095231
CREATED:20210511T021939Z
LAST-MODIFIED:20240329T112055Z
UID:10001149-1623492000-1623495600@placitaslibrary.com
SUMMARY:2021 Virtual Summer Reading Program: “Tails and Tales”
DESCRIPTION:  \nThe Placitas Library is inviting all communities to participate in our summer reading program\, “Tails and Tales.”\nThe virtual programs start at 10 a.m. on Saturday mornings.  There are three live programs that allow you to interact with the performers and ask questions.  Also\, there are two recorded programs you may watch as well.  Programs are generally 40-45 minutes. \n\nJune 12 – Didgeridoo Down Under (live) with storyteller\, Rob Thomas\, “Tails and Tales from Australia”\nThe DDU Show is a high-energy\, Australia-themed show that combines music\, culture\, comedy\, storytelling and audience movement/participation.  The didgeridoo has been played by Aboriginal Australians for at least 1\,500 years and is known for its otherworldly sound. \nBut DDU is much more than music. It’s interactive\, educational\, and motivational and super fun. You will learn about Aussie culture\, animals and more\, all while moving and grooving to the pulsing rhythm of the didge!  Remember to bring the didge that you are going to make from the craft bag you receive when you register at the library.  Rob will teach you how to play it!  There is a recording for later viewing that will be similar to the live program. \nLink to Join Zoom Meeting \nPasscode: 738843 \nMore to Watch!\nThere are two recordings available later viewing that will be similar to the live program. \nView the Video Here \nView Aussie Funk Jam \n\n\n\nJune 19: Tricky Dogs with Rick Martin\nWe will begin with a 15-minute live segment where you can ask Rick questions and introduce your pet. Your pet does not have to be a dog.  Cats\, birds\, lizards\, and all others are welcome. Be sure to be on time at 10:00 AM so you can introduce your special friend to Rick. The recorded program is next Rick demonstrates how he trains his dogs and has them perform some very funny tricks. \nLink to Join Zoom \nRecorded Program  \n  \n\n\nJune 26: Live magic show with Evan Paquette\nFor the first thirty minutes\, Evan will help you read the mind of a cuddly stuffed teddy bear\, learn amazing animal facts\, be delighted by a disappearing bookworm and much more! For the next 15 minutes\, you will be invited to a V.I.P. Magic Class. Everyone goes behind the scenes to take the Magician’s Oath\, become honorary magicians\, and learn some amazing tricks using common household items.  Evan will also recommend some books you can read to learn even more. \nLink to Join the Zoom Meeting \n\nMeeting ID: 839 1548 5710\nPasscode: Read\n\n\nParticipate in our Summer Reading Challenge\nTo register for our Reading Challenge and receive prizes follow these steps: \n\nEmail Nora Timmons at childrens@placitaslibrary.com\nIn your email\, include the name\, age\, and upcoming grade level of each child you are registering along with their reading\npractices: “Family Reader” or “Independent Reader” or both\n\nOur Children’s Program Coordinator\, Nora Timmons\, will contact you via email to provide the necessary materials.  After the library reopens in June we will announce a date to give away books and reading prizes.  In the meantime don’t forget to watch our first virtual program on June 12 at 10 AM and keep reading! \nEach family will receive a registration packet of materials including coupons from Whataburger and other materials. The first 11 kids will receive a sports bag or T-shirt.  Sizes are limited to youth sizes. We have a variety of prizes donated by Whataburger such as a T-shirt\, a book bag\, and two $10 gift cards.  There is also a wooden block turtle puzzle\, a stuffed animal\, and a plush Puss in Boots puppet.\n\nThere will also be 15 craft bags available to go along with our first program on June 12 presented by Didgeridoo Down Under.  Every child who registers will select a new book. All prizes and craft bags are first come\, first serve but there are plenty of new books that we will be giving away all summer long during June and July.\nNext\, check out the books from the library\, record the titles on your reading log which is in your registration folder.  Then\, bring the reading log to the library on one of the following dates to receive stickers for your sticker sheet which is also in your folder. \n\nSaturday\, June 26  from 3 p.m. to 5 p.m.\n\nHope you can join us!
URL:https://placitaslibrary.com/event/2021-virtual-summer-childrens-reading-program/
LOCATION:Placitas Community Library\, 453 HWY 165\, Placitas\, NM\, 87043\, United States
CATEGORIES:Children's Programs,Library Schedule
ATTACH;FMTTYPE=image/png:https://placitaslibrary.com/wp-content/uploads/2024/03/PCL-Summer-Reading-1.png
END:VEVENT
BEGIN:VEVENT
DTSTART;TZID=America/Edmonton:20210612T100000
DTEND;TZID=America/Edmonton:20210612T110000
DTSTAMP:20260425T095231
CREATED:20210608T041145Z
LAST-MODIFIED:20210608T041145Z
UID:10001156-1623492000-1623495600@placitaslibrary.com
SUMMARY:2021 Virtual Summer Reading Program: Didgeridoo Down Under (live)
DESCRIPTION:With storyteller\, Rob Thomas\, “Tails and Tales from Australia”\nThe DDU Show is a high-energy\, Australia-themed show that combines music\, culture\, comedy\, storytelling and audience movement/participation.  The didgeridoo has been played by Aboriginal Australians for at least 1\,500 years and is known for its otherworldly sound. \nBut DDU is much more than music. It’s interactive\, educational\, and motivational and super fun. You will learn about Aussie culture\, animals and more\, all while moving and grooving to the pulsing rhythm of the didge!  Remember to bring the didge that you are going to make from the craft bag you receive when you register at the library.  Rob will teach you how to play it! \nLink to Join Zoom Meeting \nPasscode: 738843 \n  \nMore to Watch!\nThere are two recordings available later viewing that will be similar to the live program. \nView the Video Here \nView Aussie Funk Jam
URL:https://placitaslibrary.com/event/2021-virtual-summer-reading-program-didgeridoo-down-under-live/2021-06-12/
LOCATION:Placitas Community Library\, 453 HWY 165\, Placitas\, NM\, 87043\, United States
CATEGORIES:Children's Programs,Library Schedule
ATTACH;FMTTYPE=image/jpeg:https://placitaslibrary.com/wp-content/uploads/2024/03/F-SRP-Australia-1.jpg
END:VEVENT
END:VCALENDAR