BEGIN:VCALENDAR
VERSION:2.0
PRODID:-//Placitas Library - ECPv6.15.20//NONSGML v1.0//EN
CALSCALE:GREGORIAN
METHOD:PUBLISH
X-WR-CALNAME:Placitas Library
X-ORIGINAL-URL:https://placitaslibrary.com
X-WR-CALDESC:Events for Placitas Library
REFRESH-INTERVAL;VALUE=DURATION:PT1H
X-Robots-Tag:noindex
X-PUBLISHED-TTL:PT1H
BEGIN:VTIMEZONE
TZID:America/Edmonton
BEGIN:DAYLIGHT
TZOFFSETFROM:-0700
TZOFFSETTO:-0600
TZNAME:MDT
DTSTART:20200308T090000
END:DAYLIGHT
BEGIN:STANDARD
TZOFFSETFROM:-0600
TZOFFSETTO:-0700
TZNAME:MST
DTSTART:20201101T080000
END:STANDARD
BEGIN:DAYLIGHT
TZOFFSETFROM:-0700
TZOFFSETTO:-0600
TZNAME:MDT
DTSTART:20210314T090000
END:DAYLIGHT
BEGIN:STANDARD
TZOFFSETFROM:-0600
TZOFFSETTO:-0700
TZNAME:MST
DTSTART:20211107T080000
END:STANDARD
BEGIN:DAYLIGHT
TZOFFSETFROM:-0700
TZOFFSETTO:-0600
TZNAME:MDT
DTSTART:20220313T090000
END:DAYLIGHT
BEGIN:STANDARD
TZOFFSETFROM:-0600
TZOFFSETTO:-0700
TZNAME:MST
DTSTART:20221106T080000
END:STANDARD
END:VTIMEZONE
BEGIN:VEVENT
DTSTART;TZID=America/Edmonton:20210619T100000
DTEND;TZID=America/Edmonton:20210619T110000
DTSTAMP:20260425T083747
CREATED:20210511T021939Z
LAST-MODIFIED:20240329T112058Z
UID:10001154-1624096800-1624100400@placitaslibrary.com
SUMMARY:2021 Virtual Summer Reading Program: Tricky Dogs with Rick Martin
DESCRIPTION:We will begin with a 15-minute live segment where you can ask Rick questions and introduce your pet. Your pet does not have to be a dog.  Cats\, birds\, lizards\, and all others are welcome. Be sure to be on time at 10:00 AM so you can introduce your special friend to Rick. The recorded program is next Rick demonstrates how he trains his dogs and has them perform some very funny tricks. \nLink to Join Zoom \nRecorded Program 
URL:https://placitaslibrary.com/event/2021-virtual-summer-childrens-reading-program-2021-06-19/
LOCATION:Placitas Community Library\, 453 HWY 165\, Placitas\, NM\, 87043\, United States
CATEGORIES:Children's Programs,Library Schedule
ATTACH;FMTTYPE=image/jpeg:https://placitaslibrary.com/wp-content/uploads/2024/03/F-SRP-Dogs.jpg
END:VEVENT
END:VCALENDAR