BEGIN:VCALENDAR
VERSION:2.0
PRODID:-//Placitas Library - ECPv6.15.20//NONSGML v1.0//EN
CALSCALE:GREGORIAN
METHOD:PUBLISH
X-ORIGINAL-URL:https://placitaslibrary.com
X-WR-CALDESC:Events for Placitas Library
REFRESH-INTERVAL;VALUE=DURATION:PT1H
X-Robots-Tag:noindex
X-PUBLISHED-TTL:PT1H
BEGIN:VTIMEZONE
TZID:America/Denver
BEGIN:DAYLIGHT
TZOFFSETFROM:-0700
TZOFFSETTO:-0600
TZNAME:MDT
DTSTART:20200308T090000
END:DAYLIGHT
BEGIN:STANDARD
TZOFFSETFROM:-0600
TZOFFSETTO:-0700
TZNAME:MST
DTSTART:20201101T080000
END:STANDARD
BEGIN:DAYLIGHT
TZOFFSETFROM:-0700
TZOFFSETTO:-0600
TZNAME:MDT
DTSTART:20210314T090000
END:DAYLIGHT
BEGIN:STANDARD
TZOFFSETFROM:-0600
TZOFFSETTO:-0700
TZNAME:MST
DTSTART:20211107T080000
END:STANDARD
BEGIN:DAYLIGHT
TZOFFSETFROM:-0700
TZOFFSETTO:-0600
TZNAME:MDT
DTSTART:20220313T090000
END:DAYLIGHT
BEGIN:STANDARD
TZOFFSETFROM:-0600
TZOFFSETTO:-0700
TZNAME:MST
DTSTART:20221106T080000
END:STANDARD
END:VTIMEZONE
BEGIN:VEVENT
DTSTART;TZID=America/Denver:20211031T130000
DTEND;TZID=America/Denver:20211031T150000
DTSTAMP:20260424T175254
CREATED:20211014T025519Z
LAST-MODIFIED:20211014T025519Z
UID:10001168-1635685200-1635692400@placitaslibrary.com
SUMMARY:Halloween Madness at the Placitas Library!
DESCRIPTION:Halloween ghosts\, pumpkins\, witches\, monsters\, and skeletons are coming to the Placitas Library on Saturday\, October 30 from 10-4 and on Sunday\, the 31st from 1-3. They need your help! \nThere will be 10 activities they need to complete but can’t do it without your assistance.  Will you come to the library to help them? \nWear your costume and a mask so they will recognize you and be sure to bring an adult.  You will receive a checklist of activities at the help desk. \nThe activities will be in the Pearl Children’s Room\, The Gracie Lee Community Room\, and in the Vulcan Kitchen. You will receive a bag of Halloween candy when you complete all the activities. \nDownload the Event Flyer\n\nHalloween Spooky Reading!\nThe divided book cart in the children’s room is now filled with books with a Halloween flavor.  Books with ghosts\, witches and goblins fill the bins.  Some bins contain a selection of Easy books and others have Juvenile Fiction for the older reader.  Stop by the Pearl Children’s room and stock up on Halloween reading!
URL:https://placitaslibrary.com/event/halloween-madness-at-the-placitas-library/2021-10-31/
LOCATION:Placitas Community Library\, 453 HWY 165\, Placitas\, NM\, 87043\, United States
CATEGORIES:Children's Programs,Library Schedule
ATTACH;FMTTYPE=image/png:https://placitaslibrary.com/wp-content/uploads/2024/03/REV-F-Halloween-2021-PNG-Compressed-e1634567453952.png
END:VEVENT
END:VCALENDAR