BEGIN:VCALENDAR
VERSION:2.0
PRODID:-//Placitas Library - ECPv6.15.20//NONSGML v1.0//EN
CALSCALE:GREGORIAN
METHOD:PUBLISH
X-ORIGINAL-URL:https://placitaslibrary.com
X-WR-CALDESC:Events for Placitas Library
REFRESH-INTERVAL;VALUE=DURATION:PT1H
X-Robots-Tag:noindex
X-PUBLISHED-TTL:PT1H
BEGIN:VTIMEZONE
TZID:America/Denver
BEGIN:DAYLIGHT
TZOFFSETFROM:-0700
TZOFFSETTO:-0600
TZNAME:MDT
DTSTART:20220313T090000
END:DAYLIGHT
BEGIN:STANDARD
TZOFFSETFROM:-0600
TZOFFSETTO:-0700
TZNAME:MST
DTSTART:20221106T080000
END:STANDARD
BEGIN:DAYLIGHT
TZOFFSETFROM:-0700
TZOFFSETTO:-0600
TZNAME:MDT
DTSTART:20230312T090000
END:DAYLIGHT
BEGIN:STANDARD
TZOFFSETFROM:-0600
TZOFFSETTO:-0700
TZNAME:MST
DTSTART:20231105T080000
END:STANDARD
BEGIN:DAYLIGHT
TZOFFSETFROM:-0700
TZOFFSETTO:-0600
TZNAME:MDT
DTSTART:20240310T090000
END:DAYLIGHT
BEGIN:STANDARD
TZOFFSETFROM:-0600
TZOFFSETTO:-0700
TZNAME:MST
DTSTART:20241103T080000
END:STANDARD
END:VTIMEZONE
BEGIN:VEVENT
DTSTART;TZID=America/Denver:20230318T130000
DTEND;TZID=America/Denver:20230318T150000
DTSTAMP:20260424T134253
CREATED:20230305T022309Z
LAST-MODIFIED:20230305T022309Z
UID:10001302-1679144400-1679151600@placitaslibrary.com
SUMMARY:A Pawsome Afternoon with Service Dog Piki
DESCRIPTION:Join us for “A Pawsome Afternoon” with Piki\, the service dog and his human\, Joan Hellquist.  Joan will read her book\, Piki Goes to College\, in which Piki tells the story of his  life after being adopted by Joan at the Rio Rancho Animal Shelter.  It is very touching and entertaining story of their lives together.
URL:https://placitaslibrary.com/event/a-pawsome-afternoon-with-service-dog-piki/
LOCATION:Placitas Community Library\, 453 HWY 165\, Placitas\, NM\, 87043\, United States
CATEGORIES:Children's Programs
ATTACH;FMTTYPE=image/png:https://placitaslibrary.com/wp-content/uploads/2024/03/Piki.png
END:VEVENT
END:VCALENDAR