BEGIN:VCALENDAR
VERSION:2.0
PRODID:-//Placitas Library - ECPv6.15.17.1//NONSGML v1.0//EN
CALSCALE:GREGORIAN
METHOD:PUBLISH
X-ORIGINAL-URL:https://placitaslibrary.com
X-WR-CALDESC:Events for Placitas Library
REFRESH-INTERVAL;VALUE=DURATION:PT1H
X-Robots-Tag:noindex
X-PUBLISHED-TTL:PT1H
BEGIN:VTIMEZONE
TZID:America/Denver
BEGIN:DAYLIGHT
TZOFFSETFROM:-0700
TZOFFSETTO:-0600
TZNAME:MDT
DTSTART:20250309T090000
END:DAYLIGHT
BEGIN:STANDARD
TZOFFSETFROM:-0600
TZOFFSETTO:-0700
TZNAME:MST
DTSTART:20251102T080000
END:STANDARD
BEGIN:DAYLIGHT
TZOFFSETFROM:-0700
TZOFFSETTO:-0600
TZNAME:MDT
DTSTART:20260308T090000
END:DAYLIGHT
BEGIN:STANDARD
TZOFFSETFROM:-0600
TZOFFSETTO:-0700
TZNAME:MST
DTSTART:20261101T080000
END:STANDARD
BEGIN:DAYLIGHT
TZOFFSETFROM:-0700
TZOFFSETTO:-0600
TZNAME:MDT
DTSTART:20270314T090000
END:DAYLIGHT
BEGIN:STANDARD
TZOFFSETFROM:-0600
TZOFFSETTO:-0700
TZNAME:MST
DTSTART:20271107T080000
END:STANDARD
END:VTIMEZONE
BEGIN:VEVENT
DTSTART;TZID=America/Denver:20260207T140000
DTEND;TZID=America/Denver:20260207T150000
DTSTAMP:20260420T090501
CREATED:20260201T182007Z
LAST-MODIFIED:20260201T182007Z
UID:10001792-1770472800-1770476400@placitaslibrary.com
SUMMARY:KINSHIP MEDICINE: Cultivating Interdependence to Heal the Earth and Ourselves by Dr. Wendy Johnson
DESCRIPTION:New time and date! Dr. Wendy Johnson is the author of KINSHIP MEDICINE: Cultivating Interdependence to Heal the Earth and Ourselves. In her talk\, she will explore how our well-being is rooted in relationship and connection–with each other and the natural world.
URL:https://placitaslibrary.com/event/kinship-medicine-cultivating-interdependence-to-heal-the-earth-and-ourselves-by-dr-wendy-johnson/
LOCATION:Placitas Community Library\, 453 HWY 165\, Placitas\, NM\, 87043\, United States
CATEGORIES:Adult Programs,Home
ATTACH;FMTTYPE=image/jpeg:https://placitaslibrary.com/wp-content/uploads/2026/02/Feb-7-Kinship-Medicine-flyer-scaled.jpg
END:VEVENT
BEGIN:VEVENT
DTSTART;TZID=America/Denver:20260208T130000
DTEND;TZID=America/Denver:20260208T150000
DTSTAMP:20260420T090501
CREATED:20260122T233450Z
LAST-MODIFIED:20260122T233450Z
UID:10001791-1770555600-1770562800@placitaslibrary.com
SUMMARY:Hearts & Feathers with Karen Shatar
DESCRIPTION:Glass artist\, Karen Shatar\, will be at the library with beautiful glass  hearts and glass feathers for you to decorate as a Valentine gift or just for yourself.  She is providing materials. Please RSVP nntimmons@comcast.net by January 31st with the number of adults and children.
URL:https://placitaslibrary.com/event/hearts-feathers-with-karen-shatar/
LOCATION:Placitas Community Library\, 453 HWY 165\, Placitas\, NM\, 87043\, United States
CATEGORIES:Children's Programs,Home
ATTACH;FMTTYPE=image/jpeg:https://placitaslibrary.com/wp-content/uploads/2026/01/F-glass-scaled.jpg
END:VEVENT
BEGIN:VEVENT
DTSTART;TZID=America/Denver:20260210T100000
DTEND;TZID=America/Denver:20260210T110000
DTSTAMP:20260420T090501
CREATED:20260122T232751Z
LAST-MODIFIED:20260122T232751Z
UID:10001790-1770717600-1770721200@placitaslibrary.com
SUMMARY:Pre-K Story Hour: Top Dogs and Cool Cats
DESCRIPTION:Hear stories about cats and dogs. Make a valentine for your paw-fect buddy.  Bring a photo of your pet to share.
URL:https://placitaslibrary.com/event/pre-k-story-hour-top-dogs-and-cool-cats/
LOCATION:Placitas Community Library\, 453 HWY 165\, Placitas\, NM\, 87043\, United States
CATEGORIES:Children's Programs,Home
ATTACH;FMTTYPE=image/jpeg:https://placitaslibrary.com/wp-content/uploads/2026/01/F-PreK-FEB-2026-scaled.jpg
END:VEVENT
BEGIN:VEVENT
DTSTART;TZID=America/Denver:20260228T100000
DTEND;TZID=America/Denver:20260228T170000
DTSTAMP:20260420T090501
CREATED:20260206T225226Z
LAST-MODIFIED:20260206T225226Z
UID:10001793-1772272800-1772298000@placitaslibrary.com
SUMMARY:Empowering Seniors Workshop
DESCRIPTION:Participants receive a guidebook (which covers subjects like aging in place\, advance directives)\, forms\, and lunch. Registration is required. See the visual for RSVP details.
URL:https://placitaslibrary.com/event/empowering-seniors-workshop/
LOCATION:Placitas Community Library\, 453 HWY 165\, Placitas\, NM\, 87043\, United States
CATEGORIES:Adult Programs,Home
ATTACH;FMTTYPE=image/jpeg:https://placitaslibrary.com/wp-content/uploads/2026/02/EmpoweringSeniors.jpg
END:VEVENT
END:VCALENDAR