BEGIN:VCALENDAR
VERSION:2.0
PRODID:-//Placitas Library - ECPv6.15.17.1//NONSGML v1.0//EN
CALSCALE:GREGORIAN
METHOD:PUBLISH
X-WR-CALNAME:Placitas Library
X-ORIGINAL-URL:https://placitaslibrary.com
X-WR-CALDESC:Events for Placitas Library
REFRESH-INTERVAL;VALUE=DURATION:PT1H
X-Robots-Tag:noindex
X-PUBLISHED-TTL:PT1H
BEGIN:VTIMEZONE
TZID:America/Denver
BEGIN:DAYLIGHT
TZOFFSETFROM:-0700
TZOFFSETTO:-0600
TZNAME:MDT
DTSTART:20250309T090000
END:DAYLIGHT
BEGIN:STANDARD
TZOFFSETFROM:-0600
TZOFFSETTO:-0700
TZNAME:MST
DTSTART:20251102T080000
END:STANDARD
BEGIN:DAYLIGHT
TZOFFSETFROM:-0700
TZOFFSETTO:-0600
TZNAME:MDT
DTSTART:20260308T090000
END:DAYLIGHT
BEGIN:STANDARD
TZOFFSETFROM:-0600
TZOFFSETTO:-0700
TZNAME:MST
DTSTART:20261101T080000
END:STANDARD
BEGIN:DAYLIGHT
TZOFFSETFROM:-0700
TZOFFSETTO:-0600
TZNAME:MDT
DTSTART:20270314T090000
END:DAYLIGHT
BEGIN:STANDARD
TZOFFSETFROM:-0600
TZOFFSETTO:-0700
TZNAME:MST
DTSTART:20271107T080000
END:STANDARD
END:VTIMEZONE
BEGIN:VEVENT
DTSTART;VALUE=DATE:20260103
DTEND;VALUE=DATE:20260206
DTSTAMP:20260421T112124
CREATED:20251210T135602Z
LAST-MODIFIED:20260207T152526Z
UID:10001773-1767398400-1770335999@placitaslibrary.com
SUMMARY:January 2026 - "Judith Roderick: A Retrospective"
DESCRIPTION:Join us for a special preview of the 29th Annual Placitas Studio Tour Preview Exhibit\, featuring the work of 62 Placitas artists who create right here in our own community. \nThe Preview Exhibit opens on April 14th and runs through May 10th\, organized by studio number and neighborhood — the perfect way to plan your tour before Mother’s Day weekend! \nStudio Tour dates/times:\nFriday\, May 8\nSaturday\, May 9\nSunday\, May 10\n10:00 am to 5:00 pm daily \nhttps://placitasstudiotour.org/ \nCoordinator: Colleen Gregoire & John Streicher \nCheck out the artwork! \nhttps://www.youtube.com/watch?v=4197L3nuSB8
URL:https://placitaslibrary.com/event/january-2026-judith-roderick-a-retrospective/
CATEGORIES:Library Schedule
ATTACH;FMTTYPE=image/jpeg:https://placitaslibrary.com/wp-content/uploads/2026/01/IMG_2223-scaled.jpeg
END:VEVENT
END:VCALENDAR