BEGIN:VCALENDAR
VERSION:2.0
PRODID:-//Placitas Library - ECPv6.15.17.1//NONSGML v1.0//EN
CALSCALE:GREGORIAN
METHOD:PUBLISH
X-WR-CALNAME:Placitas Library
X-ORIGINAL-URL:https://placitaslibrary.com
X-WR-CALDESC:Events for Placitas Library
REFRESH-INTERVAL;VALUE=DURATION:PT1H
X-Robots-Tag:noindex
X-PUBLISHED-TTL:PT1H
BEGIN:VTIMEZONE
TZID:America/Denver
BEGIN:DAYLIGHT
TZOFFSETFROM:-0700
TZOFFSETTO:-0600
TZNAME:MDT
DTSTART:20240310T090000
END:DAYLIGHT
BEGIN:STANDARD
TZOFFSETFROM:-0600
TZOFFSETTO:-0700
TZNAME:MST
DTSTART:20241103T080000
END:STANDARD
BEGIN:DAYLIGHT
TZOFFSETFROM:-0700
TZOFFSETTO:-0600
TZNAME:MDT
DTSTART:20250309T090000
END:DAYLIGHT
BEGIN:STANDARD
TZOFFSETFROM:-0600
TZOFFSETTO:-0700
TZNAME:MST
DTSTART:20251102T080000
END:STANDARD
BEGIN:DAYLIGHT
TZOFFSETFROM:-0700
TZOFFSETTO:-0600
TZNAME:MDT
DTSTART:20260308T090000
END:DAYLIGHT
BEGIN:STANDARD
TZOFFSETFROM:-0600
TZOFFSETTO:-0700
TZNAME:MST
DTSTART:20261101T080000
END:STANDARD
BEGIN:DAYLIGHT
TZOFFSETFROM:-0700
TZOFFSETTO:-0600
TZNAME:MDT
DTSTART:20270314T090000
END:DAYLIGHT
BEGIN:STANDARD
TZOFFSETFROM:-0600
TZOFFSETTO:-0700
TZNAME:MST
DTSTART:20271107T080000
END:STANDARD
END:VTIMEZONE
BEGIN:VEVENT
DTSTART;TZID=America/Denver:20260419T140000
DTEND;TZID=America/Denver:20260419T150000
DTSTAMP:20260420T054800
CREATED:20260226T224625Z
LAST-MODIFIED:20260309T183351Z
UID:10001799-1776607200-1776610800@placitaslibrary.com
SUMMARY:Violin Wizardry\, featuring Violin Wizard\, Carmelo de los Santos and hosted by Oliver Prezant
DESCRIPTION:This is a fun\, family program that explores how the violin works  and the amazingly acrobatic\, character-filled music of Nicolo Paganini.  Carmelo de los Santos is not only a violin wizard but has been known to perform magic tricks for his audience as well.
URL:https://placitaslibrary.com/event/violin-wizardry-featuring-violin-wizard-carmelo-de-los-santos-and-hosted-by-oliver-prezant/
LOCATION:Placitas Community Library\, 453 HWY 165\, Placitas\, NM\, 87043\, United States
CATEGORIES:Children's Programs,Home
ATTACH;FMTTYPE=image/jpeg:https://placitaslibrary.com/wp-content/uploads/2026/03/Virtuoso-Violin-Placitas_7.jpg
END:VEVENT
BEGIN:VEVENT
DTSTART;TZID=America/Denver:20260415T100000
DTEND;TZID=America/Denver:20260415T110000
DTSTAMP:20260420T054800
CREATED:20240917T201621Z
LAST-MODIFIED:20240919T041703Z
UID:10001510-1776247200-1776250800@placitaslibrary.com
SUMMARY:La Parranda: Club de Español
DESCRIPTION:La Parranda: Club de Español (Every Wed at 10 AM): Enjoy the opportunity to experience español with Diane Herrera Shepard and other guests. The Club is open to anyone who wants to learn\, use\, practice\, or converse in Spanish.
URL:https://placitaslibrary.com/event/la-parranda-club-de-espanol/2026-04-15/
LOCATION:Placitas Community Library\, 453 HWY 165\, Placitas\, NM\, 87043\, United States
CATEGORIES:Adult Programs
ATTACH;FMTTYPE=image/jpeg:https://placitaslibrary.com/wp-content/uploads/2024/05/LA-Parranda-Spanish-Club.jpg
END:VEVENT
BEGIN:VEVENT
DTSTART;TZID=America/Denver:20260414T100000
DTEND;TZID=America/Denver:20260414T110000
DTSTAMP:20260420T054800
CREATED:20260226T223901Z
LAST-MODIFIED:20260226T223901Z
UID:10001798-1776160800-1776164400@placitaslibrary.com
SUMMARY:Pre-K Story Hour: Grumpy Monkey Spring Fever
DESCRIPTION:The April Pre-k story time will be on the 14th at 10:00 am. Join us as Grumpy Monkey celebrates the arrival of Spring and experiences spring fever. Grumpy Monkey Spring Fever was written by Suzanne and Max Lang.  We will have an egg hunt and make a flower crown. Sounds like fun so come join us!
URL:https://placitaslibrary.com/event/pre-k-story-hour-grumpy-monkey-spring-fever/
LOCATION:Placitas Community Library\, 453 HWY 165\, Placitas\, NM\, 87043\, United States
ATTACH;FMTTYPE=image/jpeg:https://placitaslibrary.com/wp-content/uploads/2026/02/F-PreK-APR-2026-scaled.jpg
END:VEVENT
BEGIN:VEVENT
DTSTART;TZID=America/Denver:20260411T090000
DTEND;TZID=America/Denver:20260411T150000
DTSTAMP:20260420T054800
CREATED:20260310T231835Z
LAST-MODIFIED:20260310T233522Z
UID:10001800-1775898000-1775919600@placitaslibrary.com
SUMMARY:Spring Fling Sale: Plants\, Books\, and Baked Goods!
DESCRIPTION:PLANT SALE –Donated by local nurseries and the Jardineros Plant Whisperers. A master gardener will be here to answer questions\, too!
URL:https://placitaslibrary.com/event/spring-fling-sale-plants-books-and-baked-goods/
LOCATION:Placitas Community Library\, 453 HWY 165\, Placitas\, NM\, 87043\, United States
CATEGORIES:Fundraising,Home,Public
ATTACH;FMTTYPE=image/jpeg:https://placitaslibrary.com/wp-content/uploads/2026/03/F-Spring-Fling-26-scaled.jpg
ORGANIZER;CN="Library":MAILTO:https://placitaslibrary.com/contact/
END:VEVENT
BEGIN:VEVENT
DTSTART;TZID=America/Denver:20260408T100000
DTEND;TZID=America/Denver:20260408T110000
DTSTAMP:20260420T054800
CREATED:20240917T201621Z
LAST-MODIFIED:20240919T041703Z
UID:10001509-1775642400-1775646000@placitaslibrary.com
SUMMARY:La Parranda: Club de Español
DESCRIPTION:La Parranda: Club de Español (Every Wed at 10 AM): Enjoy the opportunity to experience español with Diane Herrera Shepard and other guests. The Club is open to anyone who wants to learn\, use\, practice\, or converse in Spanish.
URL:https://placitaslibrary.com/event/la-parranda-club-de-espanol/2026-04-08/
LOCATION:Placitas Community Library\, 453 HWY 165\, Placitas\, NM\, 87043\, United States
CATEGORIES:Adult Programs
ATTACH;FMTTYPE=image/jpeg:https://placitaslibrary.com/wp-content/uploads/2024/05/LA-Parranda-Spanish-Club.jpg
END:VEVENT
BEGIN:VEVENT
DTSTART;TZID=America/Denver:20260404T140000
DTEND;TZID=America/Denver:20260404T150000
DTSTAMP:20260420T054800
CREATED:20260226T222819Z
LAST-MODIFIED:20260226T222819Z
UID:10001797-1775311200-1775314800@placitaslibrary.com
SUMMARY:Celebrate Poetry Month with poet Larry Goodell
DESCRIPTION:In celebration of April as National Poetry Month\, Placitas poet Larry Goodell will read and perform his work.
URL:https://placitaslibrary.com/event/celebrate-poetry-month-with-poet-larry-goodell/
LOCATION:Placitas Community Library\, 453 HWY 165\, Placitas\, NM\, 87043\, United States
CATEGORIES:Adult Programs,Home
ATTACH;FMTTYPE=image/jpeg:https://placitaslibrary.com/wp-content/uploads/2026/02/Larry-Goodell-by-Lenore-Goodell-2.jpg
END:VEVENT
BEGIN:VEVENT
DTSTART;TZID=America/Denver:20260401T100000
DTEND;TZID=America/Denver:20260401T110000
DTSTAMP:20260420T054800
CREATED:20240917T201621Z
LAST-MODIFIED:20240919T041703Z
UID:10001508-1775037600-1775041200@placitaslibrary.com
SUMMARY:La Parranda: Club de Español
DESCRIPTION:La Parranda: Club de Español (Every Wed at 10 AM): Enjoy the opportunity to experience español with Diane Herrera Shepard and other guests. The Club is open to anyone who wants to learn\, use\, practice\, or converse in Spanish.
URL:https://placitaslibrary.com/event/la-parranda-club-de-espanol/2026-04-01/
LOCATION:Placitas Community Library\, 453 HWY 165\, Placitas\, NM\, 87043\, United States
CATEGORIES:Adult Programs
ATTACH;FMTTYPE=image/jpeg:https://placitaslibrary.com/wp-content/uploads/2024/05/LA-Parranda-Spanish-Club.jpg
END:VEVENT
BEGIN:VEVENT
DTSTART;TZID=America/Denver:20260325T100000
DTEND;TZID=America/Denver:20260325T110000
DTSTAMP:20260420T054800
CREATED:20240917T201621Z
LAST-MODIFIED:20240919T041703Z
UID:10001507-1774432800-1774436400@placitaslibrary.com
SUMMARY:La Parranda: Club de Español
DESCRIPTION:La Parranda: Club de Español (Every Wed at 10 AM): Enjoy the opportunity to experience español with Diane Herrera Shepard and other guests. The Club is open to anyone who wants to learn\, use\, practice\, or converse in Spanish.
URL:https://placitaslibrary.com/event/la-parranda-club-de-espanol/2026-03-25/
LOCATION:Placitas Community Library\, 453 HWY 165\, Placitas\, NM\, 87043\, United States
CATEGORIES:Adult Programs
ATTACH;FMTTYPE=image/jpeg:https://placitaslibrary.com/wp-content/uploads/2024/05/LA-Parranda-Spanish-Club.jpg
END:VEVENT
BEGIN:VEVENT
DTSTART;TZID=America/Denver:20260321T100000
DTEND;TZID=America/Denver:20260321T110000
DTSTAMP:20260420T054800
CREATED:20260211T202738Z
LAST-MODIFIED:20260211T202738Z
UID:10001794-1774087200-1774090800@placitaslibrary.com
SUMMARY:Bird Migration in New Mexico a Talk with Dr. Laura Banks
DESCRIPTION:Join the Bird Alliance of Central New Mexico and the Jardineros Birding Buddies at the Placitas Community Library for a presentation on how birds migrate\, where you can safely observe them\, and help them along their way.
URL:https://placitaslibrary.com/event/bird-migration-in-new-mexico-a-talk-with-dr-laura-banks/
LOCATION:Placitas Community Library\, 453 HWY 165\, Placitas\, NM\, 87043\, United States
CATEGORIES:Adult Programs,Home
ATTACH;FMTTYPE=image/png:https://placitaslibrary.com/wp-content/uploads/2026/02/Birding-Alliance-logo.png
END:VEVENT
BEGIN:VEVENT
DTSTART;TZID=America/Denver:20260318T100000
DTEND;TZID=America/Denver:20260318T110000
DTSTAMP:20260420T054800
CREATED:20240917T201621Z
LAST-MODIFIED:20240919T041703Z
UID:10001506-1773828000-1773831600@placitaslibrary.com
SUMMARY:La Parranda: Club de Español
DESCRIPTION:La Parranda: Club de Español (Every Wed at 10 AM): Enjoy the opportunity to experience español with Diane Herrera Shepard and other guests. The Club is open to anyone who wants to learn\, use\, practice\, or converse in Spanish.
URL:https://placitaslibrary.com/event/la-parranda-club-de-espanol/2026-03-18/
LOCATION:Placitas Community Library\, 453 HWY 165\, Placitas\, NM\, 87043\, United States
CATEGORIES:Adult Programs
ATTACH;FMTTYPE=image/jpeg:https://placitaslibrary.com/wp-content/uploads/2024/05/LA-Parranda-Spanish-Club.jpg
END:VEVENT
BEGIN:VEVENT
DTSTART;TZID=America/Denver:20260311T100000
DTEND;TZID=America/Denver:20260311T110000
DTSTAMP:20260420T054800
CREATED:20240917T201621Z
LAST-MODIFIED:20240919T041703Z
UID:10001505-1773223200-1773226800@placitaslibrary.com
SUMMARY:La Parranda: Club de Español
DESCRIPTION:La Parranda: Club de Español (Every Wed at 10 AM): Enjoy the opportunity to experience español with Diane Herrera Shepard and other guests. The Club is open to anyone who wants to learn\, use\, practice\, or converse in Spanish.
URL:https://placitaslibrary.com/event/la-parranda-club-de-espanol/2026-03-11/
LOCATION:Placitas Community Library\, 453 HWY 165\, Placitas\, NM\, 87043\, United States
CATEGORIES:Adult Programs
ATTACH;FMTTYPE=image/jpeg:https://placitaslibrary.com/wp-content/uploads/2024/05/LA-Parranda-Spanish-Club.jpg
END:VEVENT
BEGIN:VEVENT
DTSTART;TZID=America/Denver:20260310T100000
DTEND;TZID=America/Denver:20260310T110000
DTSTAMP:20260420T054800
CREATED:20260214T213132Z
LAST-MODIFIED:20260214T213132Z
UID:10001795-1773136800-1773140400@placitaslibrary.com
SUMMARY:Pre-K Story Hour: It's Not Easy Being No. 3
DESCRIPTION:The is theme is 3rd Time’s The Charm featuring the book:  It’s Not Easy Being Number Three by Drew Dernavich.  Find out what happens when Number 3 gets bored and decides to quit being a number.  He goes exploring out into the world trying to find other things he can do being shaped like a 3.  This will be a fun exploration!
URL:https://placitaslibrary.com/event/pre-k-story-hour-its-not-easy-being-no-3/
LOCATION:Placitas Community Library\, 453 HWY 165\, Placitas\, NM\, 87043\, United States
CATEGORIES:Children's Programs,Home
ATTACH;FMTTYPE=image/jpeg:https://placitaslibrary.com/wp-content/uploads/2026/02/F-PreK-MAR-2026-scaled.jpg
END:VEVENT
BEGIN:VEVENT
DTSTART;TZID=America/Denver:20260304T100000
DTEND;TZID=America/Denver:20260304T110000
DTSTAMP:20260420T054800
CREATED:20240917T201621Z
LAST-MODIFIED:20240919T041703Z
UID:10001504-1772618400-1772622000@placitaslibrary.com
SUMMARY:La Parranda: Club de Español
DESCRIPTION:La Parranda: Club de Español (Every Wed at 10 AM): Enjoy the opportunity to experience español with Diane Herrera Shepard and other guests. The Club is open to anyone who wants to learn\, use\, practice\, or converse in Spanish.
URL:https://placitaslibrary.com/event/la-parranda-club-de-espanol/2026-03-04/
LOCATION:Placitas Community Library\, 453 HWY 165\, Placitas\, NM\, 87043\, United States
CATEGORIES:Adult Programs
ATTACH;FMTTYPE=image/jpeg:https://placitaslibrary.com/wp-content/uploads/2024/05/LA-Parranda-Spanish-Club.jpg
END:VEVENT
BEGIN:VEVENT
DTSTART;TZID=America/Denver:20260301T140000
DTEND;TZID=America/Denver:20260301T150000
DTSTAMP:20260420T054800
CREATED:20260214T214055Z
LAST-MODIFIED:20260214T214055Z
UID:10001796-1772373600-1772377200@placitaslibrary.com
SUMMARY:A Musical Story featuring the Young Voices
DESCRIPTION:What do you do when an octopus captures grandma?  Put on your superhero cape and rescue her!Octopus Stew\, written by Eric Velasquez\, will be read by Amy Owens\, director of the Young Voices of the Santa Fe Opera.  Throughout the story\, the Young Voices will perform songs.
URL:https://placitaslibrary.com/event/a-musical-story-featuring-the-young-voices/
LOCATION:Placitas Community Library\, 453 HWY 165\, Placitas\, NM\, 87043\, United States
CATEGORIES:Children's Programs,Home
ATTACH;FMTTYPE=image/jpeg:https://placitaslibrary.com/wp-content/uploads/2026/02/F-Octopus-scaled.jpg
END:VEVENT
BEGIN:VEVENT
DTSTART;TZID=America/Denver:20260228T100000
DTEND;TZID=America/Denver:20260228T170000
DTSTAMP:20260420T054800
CREATED:20260206T225226Z
LAST-MODIFIED:20260206T225226Z
UID:10001793-1772272800-1772298000@placitaslibrary.com
SUMMARY:Empowering Seniors Workshop
DESCRIPTION:Participants receive a guidebook (which covers subjects like aging in place\, advance directives)\, forms\, and lunch. Registration is required. See the visual for RSVP details.
URL:https://placitaslibrary.com/event/empowering-seniors-workshop/
LOCATION:Placitas Community Library\, 453 HWY 165\, Placitas\, NM\, 87043\, United States
CATEGORIES:Adult Programs,Home
ATTACH;FMTTYPE=image/jpeg:https://placitaslibrary.com/wp-content/uploads/2026/02/EmpoweringSeniors.jpg
END:VEVENT
BEGIN:VEVENT
DTSTART;TZID=America/Denver:20260225T100000
DTEND;TZID=America/Denver:20260225T110000
DTSTAMP:20260420T054800
CREATED:20240917T201621Z
LAST-MODIFIED:20240919T041703Z
UID:10001503-1772013600-1772017200@placitaslibrary.com
SUMMARY:La Parranda: Club de Español
DESCRIPTION:La Parranda: Club de Español (Every Wed at 10 AM): Enjoy the opportunity to experience español with Diane Herrera Shepard and other guests. The Club is open to anyone who wants to learn\, use\, practice\, or converse in Spanish.
URL:https://placitaslibrary.com/event/la-parranda-club-de-espanol/2026-02-25/
LOCATION:Placitas Community Library\, 453 HWY 165\, Placitas\, NM\, 87043\, United States
CATEGORIES:Adult Programs
ATTACH;FMTTYPE=image/jpeg:https://placitaslibrary.com/wp-content/uploads/2024/05/LA-Parranda-Spanish-Club.jpg
END:VEVENT
BEGIN:VEVENT
DTSTART;TZID=America/Denver:20260218T100000
DTEND;TZID=America/Denver:20260218T110000
DTSTAMP:20260420T054800
CREATED:20240917T201621Z
LAST-MODIFIED:20240919T041703Z
UID:10001502-1771408800-1771412400@placitaslibrary.com
SUMMARY:La Parranda: Club de Español
DESCRIPTION:La Parranda: Club de Español (Every Wed at 10 AM): Enjoy the opportunity to experience español with Diane Herrera Shepard and other guests. The Club is open to anyone who wants to learn\, use\, practice\, or converse in Spanish.
URL:https://placitaslibrary.com/event/la-parranda-club-de-espanol/2026-02-18/
LOCATION:Placitas Community Library\, 453 HWY 165\, Placitas\, NM\, 87043\, United States
CATEGORIES:Adult Programs
ATTACH;FMTTYPE=image/jpeg:https://placitaslibrary.com/wp-content/uploads/2024/05/LA-Parranda-Spanish-Club.jpg
END:VEVENT
BEGIN:VEVENT
DTSTART;TZID=America/Denver:20260211T100000
DTEND;TZID=America/Denver:20260211T110000
DTSTAMP:20260420T054800
CREATED:20240917T201621Z
LAST-MODIFIED:20240919T041703Z
UID:10001501-1770804000-1770807600@placitaslibrary.com
SUMMARY:La Parranda: Club de Español
DESCRIPTION:La Parranda: Club de Español (Every Wed at 10 AM): Enjoy the opportunity to experience español with Diane Herrera Shepard and other guests. The Club is open to anyone who wants to learn\, use\, practice\, or converse in Spanish.
URL:https://placitaslibrary.com/event/la-parranda-club-de-espanol/2026-02-11/
LOCATION:Placitas Community Library\, 453 HWY 165\, Placitas\, NM\, 87043\, United States
CATEGORIES:Adult Programs
ATTACH;FMTTYPE=image/jpeg:https://placitaslibrary.com/wp-content/uploads/2024/05/LA-Parranda-Spanish-Club.jpg
END:VEVENT
BEGIN:VEVENT
DTSTART;TZID=America/Denver:20260210T100000
DTEND;TZID=America/Denver:20260210T110000
DTSTAMP:20260420T054800
CREATED:20260122T232751Z
LAST-MODIFIED:20260122T232751Z
UID:10001790-1770717600-1770721200@placitaslibrary.com
SUMMARY:Pre-K Story Hour: Top Dogs and Cool Cats
DESCRIPTION:Hear stories about cats and dogs. Make a valentine for your paw-fect buddy.  Bring a photo of your pet to share.
URL:https://placitaslibrary.com/event/pre-k-story-hour-top-dogs-and-cool-cats/
LOCATION:Placitas Community Library\, 453 HWY 165\, Placitas\, NM\, 87043\, United States
CATEGORIES:Children's Programs,Home
ATTACH;FMTTYPE=image/jpeg:https://placitaslibrary.com/wp-content/uploads/2026/01/F-PreK-FEB-2026-scaled.jpg
END:VEVENT
BEGIN:VEVENT
DTSTART;TZID=America/Denver:20260208T130000
DTEND;TZID=America/Denver:20260208T150000
DTSTAMP:20260420T054800
CREATED:20260122T233450Z
LAST-MODIFIED:20260122T233450Z
UID:10001791-1770555600-1770562800@placitaslibrary.com
SUMMARY:Hearts & Feathers with Karen Shatar
DESCRIPTION:Glass artist\, Karen Shatar\, will be at the library with beautiful glass  hearts and glass feathers for you to decorate as a Valentine gift or just for yourself.  She is providing materials. Please RSVP nntimmons@comcast.net by January 31st with the number of adults and children.
URL:https://placitaslibrary.com/event/hearts-feathers-with-karen-shatar/
LOCATION:Placitas Community Library\, 453 HWY 165\, Placitas\, NM\, 87043\, United States
CATEGORIES:Children's Programs,Home
ATTACH;FMTTYPE=image/jpeg:https://placitaslibrary.com/wp-content/uploads/2026/01/F-glass-scaled.jpg
END:VEVENT
BEGIN:VEVENT
DTSTART;TZID=America/Denver:20260207T140000
DTEND;TZID=America/Denver:20260207T150000
DTSTAMP:20260420T054800
CREATED:20260201T182007Z
LAST-MODIFIED:20260201T182007Z
UID:10001792-1770472800-1770476400@placitaslibrary.com
SUMMARY:KINSHIP MEDICINE: Cultivating Interdependence to Heal the Earth and Ourselves by Dr. Wendy Johnson
DESCRIPTION:New time and date! Dr. Wendy Johnson is the author of KINSHIP MEDICINE: Cultivating Interdependence to Heal the Earth and Ourselves. In her talk\, she will explore how our well-being is rooted in relationship and connection–with each other and the natural world.
URL:https://placitaslibrary.com/event/kinship-medicine-cultivating-interdependence-to-heal-the-earth-and-ourselves-by-dr-wendy-johnson/
LOCATION:Placitas Community Library\, 453 HWY 165\, Placitas\, NM\, 87043\, United States
CATEGORIES:Adult Programs,Home
ATTACH;FMTTYPE=image/jpeg:https://placitaslibrary.com/wp-content/uploads/2026/02/Feb-7-Kinship-Medicine-flyer-scaled.jpg
END:VEVENT
BEGIN:VEVENT
DTSTART;TZID=America/Denver:20260204T100000
DTEND;TZID=America/Denver:20260204T110000
DTSTAMP:20260420T054800
CREATED:20240917T201621Z
LAST-MODIFIED:20240919T041703Z
UID:10001500-1770199200-1770202800@placitaslibrary.com
SUMMARY:La Parranda: Club de Español
DESCRIPTION:La Parranda: Club de Español (Every Wed at 10 AM): Enjoy the opportunity to experience español with Diane Herrera Shepard and other guests. The Club is open to anyone who wants to learn\, use\, practice\, or converse in Spanish.
URL:https://placitaslibrary.com/event/la-parranda-club-de-espanol/2026-02-04/
LOCATION:Placitas Community Library\, 453 HWY 165\, Placitas\, NM\, 87043\, United States
CATEGORIES:Adult Programs
ATTACH;FMTTYPE=image/jpeg:https://placitaslibrary.com/wp-content/uploads/2024/05/LA-Parranda-Spanish-Club.jpg
END:VEVENT
BEGIN:VEVENT
DTSTART;TZID=America/Denver:20260128T100000
DTEND;TZID=America/Denver:20260128T110000
DTSTAMP:20260420T054800
CREATED:20240917T201621Z
LAST-MODIFIED:20240919T041703Z
UID:10001499-1769594400-1769598000@placitaslibrary.com
SUMMARY:La Parranda: Club de Español
DESCRIPTION:La Parranda: Club de Español (Every Wed at 10 AM): Enjoy the opportunity to experience español with Diane Herrera Shepard and other guests. The Club is open to anyone who wants to learn\, use\, practice\, or converse in Spanish.
URL:https://placitaslibrary.com/event/la-parranda-club-de-espanol/2026-01-28/
LOCATION:Placitas Community Library\, 453 HWY 165\, Placitas\, NM\, 87043\, United States
CATEGORIES:Adult Programs
ATTACH;FMTTYPE=image/jpeg:https://placitaslibrary.com/wp-content/uploads/2024/05/LA-Parranda-Spanish-Club.jpg
END:VEVENT
BEGIN:VEVENT
DTSTART;TZID=America/Denver:20260121T100000
DTEND;TZID=America/Denver:20260121T110000
DTSTAMP:20260420T054800
CREATED:20240917T201621Z
LAST-MODIFIED:20240919T041703Z
UID:10001498-1768989600-1768993200@placitaslibrary.com
SUMMARY:La Parranda: Club de Español
DESCRIPTION:La Parranda: Club de Español (Every Wed at 10 AM): Enjoy the opportunity to experience español with Diane Herrera Shepard and other guests. The Club is open to anyone who wants to learn\, use\, practice\, or converse in Spanish.
URL:https://placitaslibrary.com/event/la-parranda-club-de-espanol/2026-01-21/
LOCATION:Placitas Community Library\, 453 HWY 165\, Placitas\, NM\, 87043\, United States
CATEGORIES:Adult Programs
ATTACH;FMTTYPE=image/jpeg:https://placitaslibrary.com/wp-content/uploads/2024/05/LA-Parranda-Spanish-Club.jpg
END:VEVENT
BEGIN:VEVENT
DTSTART;TZID=America/Denver:20260114T100000
DTEND;TZID=America/Denver:20260114T110000
DTSTAMP:20260420T054800
CREATED:20240917T201621Z
LAST-MODIFIED:20240919T041703Z
UID:10001497-1768384800-1768388400@placitaslibrary.com
SUMMARY:La Parranda: Club de Español
DESCRIPTION:La Parranda: Club de Español (Every Wed at 10 AM): Enjoy the opportunity to experience español with Diane Herrera Shepard and other guests. The Club is open to anyone who wants to learn\, use\, practice\, or converse in Spanish.
URL:https://placitaslibrary.com/event/la-parranda-club-de-espanol/2026-01-14/
LOCATION:Placitas Community Library\, 453 HWY 165\, Placitas\, NM\, 87043\, United States
CATEGORIES:Adult Programs
ATTACH;FMTTYPE=image/jpeg:https://placitaslibrary.com/wp-content/uploads/2024/05/LA-Parranda-Spanish-Club.jpg
END:VEVENT
BEGIN:VEVENT
DTSTART;TZID=America/Denver:20260113T100000
DTEND;TZID=America/Denver:20260113T110000
DTSTAMP:20260420T054800
CREATED:20260112T153657Z
LAST-MODIFIED:20260112T153657Z
UID:10001788-1768298400-1768302000@placitaslibrary.com
SUMMARY:Pre-K Story Hour: Cozy Up to Winter Stories
DESCRIPTION:Cozy up with Warm Winter Stories by Jan Brett.  PCL Volunteer\, Kathy Suydam\, will read winter-themed stories\, The Mitten and The Three Snow Bears.  Wear your mittens and bring a teddy bear to listen with you!
URL:https://placitaslibrary.com/event/pre-k-story-hour-cozy-up-to-winter-stories/
LOCATION:Placitas Community Library\, 453 HWY 165\, Placitas\, NM\, 87043\, United States
CATEGORIES:Children's Programs,Home
ATTACH;FMTTYPE=image/jpeg:https://placitaslibrary.com/wp-content/uploads/2026/01/F-PreK-JAN-2026-scaled.jpg
END:VEVENT
BEGIN:VEVENT
DTSTART;TZID=America/Denver:20260111T140000
DTEND;TZID=America/Denver:20260111T150000
DTSTAMP:20260420T054800
CREATED:20260112T154546Z
LAST-MODIFIED:20260112T154546Z
UID:10001789-1768140000-1768143600@placitaslibrary.com
SUMMARY:Author Reads Tale of Piper\, the Spider Who Built Bridges
DESCRIPTION:
URL:https://placitaslibrary.com/event/author-reads-tale-of-piper-the-spider-who-built-bridges/
LOCATION:Placitas Community Library\, 453 HWY 165\, Placitas\, NM\, 87043\, United States
CATEGORIES:Children's Programs,Home
ATTACH;FMTTYPE=image/jpeg:https://placitaslibrary.com/wp-content/uploads/2026/01/F-Tale-of-Piper-scaled.jpg
END:VEVENT
BEGIN:VEVENT
DTSTART;TZID=America/Denver:20260109T173000
DTEND;TZID=America/Denver:20260109T190000
DTSTAMP:20260420T054800
CREATED:20251214T171830Z
LAST-MODIFIED:20251214T171945Z
UID:10001786-1767979800-1767985200@placitaslibrary.com
SUMMARY:Dance Out!
DESCRIPTION:All are invited to boogie!
URL:https://placitaslibrary.com/event/dance-out-2/
LOCATION:Placitas Community Library\, 453 HWY 165\, Placitas\, NM\, 87043\, United States
CATEGORIES:Adult Programs,Home
ATTACH;FMTTYPE=image/jpeg:https://placitaslibrary.com/wp-content/uploads/2025/12/Dance-out-Jan-9-corrected-final-scaled.jpg
END:VEVENT
BEGIN:VEVENT
DTSTART;TZID=America/Denver:20260107T100000
DTEND;TZID=America/Denver:20260107T110000
DTSTAMP:20260420T054800
CREATED:20240917T201621Z
LAST-MODIFIED:20240919T041703Z
UID:10001496-1767780000-1767783600@placitaslibrary.com
SUMMARY:La Parranda: Club de Español
DESCRIPTION:La Parranda: Club de Español (Every Wed at 10 AM): Enjoy the opportunity to experience español with Diane Herrera Shepard and other guests. The Club is open to anyone who wants to learn\, use\, practice\, or converse in Spanish.
URL:https://placitaslibrary.com/event/la-parranda-club-de-espanol/2026-01-07/
LOCATION:Placitas Community Library\, 453 HWY 165\, Placitas\, NM\, 87043\, United States
CATEGORIES:Adult Programs
ATTACH;FMTTYPE=image/jpeg:https://placitaslibrary.com/wp-content/uploads/2024/05/LA-Parranda-Spanish-Club.jpg
END:VEVENT
BEGIN:VEVENT
DTSTART;TZID=America/Denver:20251231T100000
DTEND;TZID=America/Denver:20251231T110000
DTSTAMP:20260420T054800
CREATED:20240917T201621Z
LAST-MODIFIED:20240919T041703Z
UID:10001495-1767175200-1767178800@placitaslibrary.com
SUMMARY:La Parranda: Club de Español
DESCRIPTION:La Parranda: Club de Español (Every Wed at 10 AM): Enjoy the opportunity to experience español with Diane Herrera Shepard and other guests. The Club is open to anyone who wants to learn\, use\, practice\, or converse in Spanish.
URL:https://placitaslibrary.com/event/la-parranda-club-de-espanol/2025-12-31/
LOCATION:Placitas Community Library\, 453 HWY 165\, Placitas\, NM\, 87043\, United States
CATEGORIES:Adult Programs
ATTACH;FMTTYPE=image/jpeg:https://placitaslibrary.com/wp-content/uploads/2024/05/LA-Parranda-Spanish-Club.jpg
END:VEVENT
END:VCALENDAR