BEGIN:VCALENDAR
VERSION:2.0
PRODID:-//Placitas Library - ECPv6.15.20//NONSGML v1.0//EN
CALSCALE:GREGORIAN
METHOD:PUBLISH
X-WR-CALNAME:Placitas Library
X-ORIGINAL-URL:https://placitaslibrary.com
X-WR-CALDESC:Events for Placitas Library
REFRESH-INTERVAL;VALUE=DURATION:PT1H
X-Robots-Tag:noindex
X-PUBLISHED-TTL:PT1H
BEGIN:VTIMEZONE
TZID:America/Denver
BEGIN:DAYLIGHT
TZOFFSETFROM:-0700
TZOFFSETTO:-0600
TZNAME:MDT
DTSTART:20240310T090000
END:DAYLIGHT
BEGIN:STANDARD
TZOFFSETFROM:-0600
TZOFFSETTO:-0700
TZNAME:MST
DTSTART:20241103T080000
END:STANDARD
BEGIN:DAYLIGHT
TZOFFSETFROM:-0700
TZOFFSETTO:-0600
TZNAME:MDT
DTSTART:20250309T090000
END:DAYLIGHT
BEGIN:STANDARD
TZOFFSETFROM:-0600
TZOFFSETTO:-0700
TZNAME:MST
DTSTART:20251102T080000
END:STANDARD
BEGIN:DAYLIGHT
TZOFFSETFROM:-0700
TZOFFSETTO:-0600
TZNAME:MDT
DTSTART:20260308T090000
END:DAYLIGHT
BEGIN:STANDARD
TZOFFSETFROM:-0600
TZOFFSETTO:-0700
TZNAME:MST
DTSTART:20261101T080000
END:STANDARD
END:VTIMEZONE
BEGIN:VEVENT
DTSTART;TZID=America/Denver:20250423T100000
DTEND;TZID=America/Denver:20250423T110000
DTSTAMP:20260424T095019
CREATED:20240917T201621Z
LAST-MODIFIED:20240919T041703Z
UID:10001459-1745402400-1745406000@placitaslibrary.com
SUMMARY:La Parranda: Club de Español
DESCRIPTION:La Parranda: Club de Español (Every Wed at 10 AM): Enjoy the opportunity to experience español with Diane Herrera Shepard and other guests. The Club is open to anyone who wants to learn\, use\, practice\, or converse in Spanish.
URL:https://placitaslibrary.com/event/la-parranda-club-de-espanol/2025-04-23/
LOCATION:Placitas Community Library\, 453 HWY 165\, Placitas\, NM\, 87043\, United States
CATEGORIES:Adult Programs
ATTACH;FMTTYPE=image/jpeg:https://placitaslibrary.com/wp-content/uploads/2024/05/LA-Parranda-Spanish-Club.jpg
END:VEVENT
BEGIN:VEVENT
DTSTART;TZID=America/Denver:20250416T100000
DTEND;TZID=America/Denver:20250416T110000
DTSTAMP:20260424T095019
CREATED:20240917T201621Z
LAST-MODIFIED:20240919T041703Z
UID:10001458-1744797600-1744801200@placitaslibrary.com
SUMMARY:La Parranda: Club de Español
DESCRIPTION:La Parranda: Club de Español (Every Wed at 10 AM): Enjoy the opportunity to experience español with Diane Herrera Shepard and other guests. The Club is open to anyone who wants to learn\, use\, practice\, or converse in Spanish.
URL:https://placitaslibrary.com/event/la-parranda-club-de-espanol/2025-04-16/
LOCATION:Placitas Community Library\, 453 HWY 165\, Placitas\, NM\, 87043\, United States
CATEGORIES:Adult Programs
ATTACH;FMTTYPE=image/jpeg:https://placitaslibrary.com/wp-content/uploads/2024/05/LA-Parranda-Spanish-Club.jpg
END:VEVENT
BEGIN:VEVENT
DTSTART;VALUE=DATE:20250415
DTEND;VALUE=DATE:20250512
DTSTAMP:20260424T095019
CREATED:20241020T012055Z
LAST-MODIFIED:20250415T211758Z
UID:10001701-1744675200-1747007999@placitaslibrary.com
SUMMARY:April 2025:  Placitas Studio Tour Preview Exhibition
DESCRIPTION:A select art collection from Placitas Studio Tour artists will be on display. \nCoordinator: Colleen Gregoire
URL:https://placitaslibrary.com/event/april-2025-placitas-studio-tour-preview-exhibition/
LOCATION:Placitas Community Library\, 453 HWY 165\, Placitas\, NM\, 87043\, United States
CATEGORIES:Art Exhibit,Library Schedule
ATTACH;FMTTYPE=image/jpeg:https://placitaslibrary.com/wp-content/uploads/2024/10/No-Studio-tour.jpg
END:VEVENT
BEGIN:VEVENT
DTSTART;TZID=America/Denver:20250412T100000
DTEND;TZID=America/Denver:20250412T160000
DTSTAMP:20260424T095019
CREATED:20250404T062941Z
LAST-MODIFIED:20250404T062941Z
UID:10001741-1744452000-1744473600@placitaslibrary.com
SUMMARY:Spring Fling Sale
DESCRIPTION:We will have plants\, baked goods\, jewelry\, books\, puzzles\, DVDs and more for sale!
URL:https://placitaslibrary.com/event/spring-fling-sale/
LOCATION:Placitas Community Library\, 453 HWY 165\, Placitas\, NM\, 87043\, United States
CATEGORIES:Fundraising,Home
ATTACH;FMTTYPE=image/jpeg:https://placitaslibrary.com/wp-content/uploads/2025/04/landscape-spring-fling-scaled.jpg
END:VEVENT
BEGIN:VEVENT
DTSTART;TZID=America/Denver:20250409T100000
DTEND;TZID=America/Denver:20250409T110000
DTSTAMP:20260424T095019
CREATED:20240917T201621Z
LAST-MODIFIED:20240919T041703Z
UID:10001457-1744192800-1744196400@placitaslibrary.com
SUMMARY:La Parranda: Club de Español
DESCRIPTION:La Parranda: Club de Español (Every Wed at 10 AM): Enjoy the opportunity to experience español with Diane Herrera Shepard and other guests. The Club is open to anyone who wants to learn\, use\, practice\, or converse in Spanish.
URL:https://placitaslibrary.com/event/la-parranda-club-de-espanol/2025-04-09/
LOCATION:Placitas Community Library\, 453 HWY 165\, Placitas\, NM\, 87043\, United States
CATEGORIES:Adult Programs
ATTACH;FMTTYPE=image/jpeg:https://placitaslibrary.com/wp-content/uploads/2024/05/LA-Parranda-Spanish-Club.jpg
END:VEVENT
BEGIN:VEVENT
DTSTART;TZID=America/Denver:20250408T110000
DTEND;TZID=America/Denver:20250408T110000
DTSTAMP:20260424T095019
CREATED:20250405T184426Z
LAST-MODIFIED:20250405T184426Z
UID:10001742-1744110000-1744110000@placitaslibrary.com
SUMMARY:Children's Book Day
DESCRIPTION:We will be celebrating  a special event called Dia.  This is the celebration of Dia de los libros y de los ninos\, Children’s Book Day.  We will celebrate by reading bilingual board books to your children and by letting them select a new book to take home. This program is for children ages infant – 5. There will be activities and snacks.
URL:https://placitaslibrary.com/event/childrens-book-day/
LOCATION:Placitas Community Library\, 453 HWY 165\, Placitas\, NM\, 87043\, United States
CATEGORIES:Children's Programs,Home
ATTACH;FMTTYPE=image/jpeg:https://placitaslibrary.com/wp-content/uploads/2025/04/F-PreK-APR-2025-scaled.jpg
END:VEVENT
BEGIN:VEVENT
DTSTART;TZID=America/Denver:20250405T180000
DTEND;TZID=America/Denver:20250405T220000
DTSTAMP:20260424T095019
CREATED:20250308T202617Z
LAST-MODIFIED:20250308T202617Z
UID:10001736-1743876000-1743890400@placitaslibrary.com
SUMMARY:Spring Star Party
DESCRIPTION:Placitas Community Library’s spring Star Party will be April 5\, beginning at 6pm with Solar viewing. At 7pm The Albuquerque Astronomical Society (TAAS) own Star Master teach us about the multitude of star which will be in view that night—  First Quarter Moon\, the planets Uranus\, Jupiter and Mars\, bright stars…..Sirius\, Procyon\, Rigel\, Betelgeuse\, Regulus\, Capella\, and Arcturus…..and a number of open and globular star clusters. By then the sky will be dark and the stars will have begun to show themselves. Viewing will continue into the night. There will be a variety of types and sizes of telescopes to guide you to the wonders of our dark skies.
URL:https://placitaslibrary.com/event/spring-star-party/
LOCATION:Placitas Community Library\, 453 HWY 165\, Placitas\, NM\, 87043\, United States
CATEGORIES:Adult Programs,Home
ATTACH;FMTTYPE=image/jpeg:https://placitaslibrary.com/wp-content/uploads/2025/03/April-5-Star-Party-horizontal-web.jpg
END:VEVENT
BEGIN:VEVENT
DTSTART;TZID=America/Denver:20250404T173000
DTEND;TZID=America/Denver:20250404T183000
DTSTAMP:20260424T095019
CREATED:20250308T205219Z
LAST-MODIFIED:20250308T205219Z
UID:10001738-1743787800-1743791400@placitaslibrary.com
SUMMARY:Dance Out! First Friday drop-in!
DESCRIPTION:All are welcome! Just come and move to the music!
URL:https://placitaslibrary.com/event/dance-out-first-friday-drop-in-2/
LOCATION:Placitas Community Library\, 453 HWY 165\, Placitas\, NM\, 87043\, United States
CATEGORIES:Adult Programs,Home
ATTACH;FMTTYPE=image/jpeg:https://placitaslibrary.com/wp-content/uploads/2025/03/Dance-Out-flyer-April-4.jpg
END:VEVENT
BEGIN:VEVENT
DTSTART;TZID=America/Denver:20250402T100000
DTEND;TZID=America/Denver:20250402T110000
DTSTAMP:20260424T095019
CREATED:20240917T201621Z
LAST-MODIFIED:20240919T041703Z
UID:10001456-1743588000-1743591600@placitaslibrary.com
SUMMARY:La Parranda: Club de Español
DESCRIPTION:La Parranda: Club de Español (Every Wed at 10 AM): Enjoy the opportunity to experience español with Diane Herrera Shepard and other guests. The Club is open to anyone who wants to learn\, use\, practice\, or converse in Spanish.
URL:https://placitaslibrary.com/event/la-parranda-club-de-espanol/2025-04-02/
LOCATION:Placitas Community Library\, 453 HWY 165\, Placitas\, NM\, 87043\, United States
CATEGORIES:Adult Programs
ATTACH;FMTTYPE=image/jpeg:https://placitaslibrary.com/wp-content/uploads/2024/05/LA-Parranda-Spanish-Club.jpg
END:VEVENT
BEGIN:VEVENT
DTSTART;TZID=America/Denver:20250329T140000
DTEND;TZID=America/Denver:20250329T153000
DTSTAMP:20260424T095019
CREATED:20250301T222452Z
LAST-MODIFIED:20250301T222452Z
UID:10001734-1743256800-1743262200@placitaslibrary.com
SUMMARY:Geography: More than Meets the Eye by Drs. Daniel and Susan Arreola
DESCRIPTION:Drs. Daniel and Susan Arreola will be speaking at the Placitas Community Library at 2 p.m. on March 29th about “The Geographer’s Eye: Sight and Insight.” They will explain\, along with audience participation\, how geographers view place and landscape. The audience will be asked to share their responses to a slide exercise so that we all learn how our views of places and landscapes have at least two dimensions\, a “Sight” and an “Insight.”
URL:https://placitaslibrary.com/event/geography-more-than-meets-the-eye-by-drs-daniel-and-susan-arreola/
LOCATION:Placitas Community Library\, 453 HWY 165\, Placitas\, NM\, 87043\, United States
CATEGORIES:Adult Programs,Home
ATTACH;FMTTYPE=image/jpeg:https://placitaslibrary.com/wp-content/uploads/2025/03/Mar-29-Geography-online-version.jpg
END:VEVENT
BEGIN:VEVENT
DTSTART;TZID=America/Denver:20250326T100000
DTEND;TZID=America/Denver:20250326T110000
DTSTAMP:20260424T095019
CREATED:20240917T201621Z
LAST-MODIFIED:20240919T041703Z
UID:10001455-1742983200-1742986800@placitaslibrary.com
SUMMARY:La Parranda: Club de Español
DESCRIPTION:La Parranda: Club de Español (Every Wed at 10 AM): Enjoy the opportunity to experience español with Diane Herrera Shepard and other guests. The Club is open to anyone who wants to learn\, use\, practice\, or converse in Spanish.
URL:https://placitaslibrary.com/event/la-parranda-club-de-espanol/2025-03-26/
LOCATION:Placitas Community Library\, 453 HWY 165\, Placitas\, NM\, 87043\, United States
CATEGORIES:Adult Programs
ATTACH;FMTTYPE=image/jpeg:https://placitaslibrary.com/wp-content/uploads/2024/05/LA-Parranda-Spanish-Club.jpg
END:VEVENT
BEGIN:VEVENT
DTSTART;TZID=America/Denver:20250323T130000
DTEND;TZID=America/Denver:20250323T143000
DTSTAMP:20260424T095019
CREATED:20250308T205922Z
LAST-MODIFIED:20250308T205922Z
UID:10001739-1742734800-1742740200@placitaslibrary.com
SUMMARY:Let's Make Tracks!
DESCRIPTION:Let’s Make Tracks!  Learn how to identify various wildlife tracks led by Elise Van Arsdale.  Elise will provide several fun and educational activities to help children identify mammal tracks.  The program will include making a t-shirt with wildlife tracks.  All materials will be provided including the t-shirt by Elise and the library\, so we need to know how many children are coming and their t-shirt size S/M/L.  Please send this info to nntimmons at comcast.net by March 15 please.
URL:https://placitaslibrary.com/event/lets-make-tracks/
LOCATION:Placitas Community Library\, 453 HWY 165\, Placitas\, NM\, 87043\, United States
CATEGORIES:Children's Programs,Home
ATTACH;FMTTYPE=image/jpeg:https://placitaslibrary.com/wp-content/uploads/2025/03/F-Animal-Tracks-2-scaled.jpg
END:VEVENT
BEGIN:VEVENT
DTSTART;TZID=America/Denver:20250321T170000
DTEND;TZID=America/Denver:20250321T183000
DTSTAMP:20260424T095019
CREATED:20241020T010416Z
LAST-MODIFIED:20250315T224635Z
UID:10001700-1742576400-1742581800@placitaslibrary.com
SUMMARY:March 2025 Artist Reception:  "Abstract Expressions"
DESCRIPTION:This unique\, vibrant exhibit offers a journey into the depths of abstraction. Expect the unexpected\, and let art awaken your imagination. \nCome and meet the artists!\nJanine Wilson\nPK Williams\nPhillip Timper\nDianna Shomaker\nKaren Melody Shatar\nAlfons Schuster\nAlison Schmitt\nJonn Salovaara\nGail Sacharczuk\nBill Sabatini\nDave Newman\nKate Miller\nBobby Middendorf\nLavon Maestas\nBeth Larsen\nNicole Kurland\nAdrienne Kleiman\nAllison Jones Hunt\nKyle Hollingsworth\nCarla Forrest\nLauren Deyo\nSusana Chavez\nAmy Cesario\nLynda Burch\nAllen Bourne\nJanet Bothne\nIndira Boswell\nCarolyn Berry\nCarolyn Kari Bell\nLisa Avila \nImage: “Synergy” – Dave Newman
URL:https://placitaslibrary.com/event/march-2025-artist-reception-abstract-expressions/
LOCATION:Placitas Community Library\, 453 HWY 165\, Placitas\, NM\, 87043\, United States
CATEGORIES:Art Exhibit,Library Schedule
ATTACH;FMTTYPE=image/jpeg:https://placitaslibrary.com/wp-content/uploads/2024/10/Dave-Newman-Title-Synergy.jpg
END:VEVENT
BEGIN:VEVENT
DTSTART;TZID=America/Denver:20250319T100000
DTEND;TZID=America/Denver:20250319T110000
DTSTAMP:20260424T095019
CREATED:20240917T201621Z
LAST-MODIFIED:20240919T041703Z
UID:10001454-1742378400-1742382000@placitaslibrary.com
SUMMARY:La Parranda: Club de Español
DESCRIPTION:La Parranda: Club de Español (Every Wed at 10 AM): Enjoy the opportunity to experience español with Diane Herrera Shepard and other guests. The Club is open to anyone who wants to learn\, use\, practice\, or converse in Spanish.
URL:https://placitaslibrary.com/event/la-parranda-club-de-espanol/2025-03-19/
LOCATION:Placitas Community Library\, 453 HWY 165\, Placitas\, NM\, 87043\, United States
CATEGORIES:Adult Programs
ATTACH;FMTTYPE=image/jpeg:https://placitaslibrary.com/wp-content/uploads/2024/05/LA-Parranda-Spanish-Club.jpg
END:VEVENT
BEGIN:VEVENT
DTSTART;TZID=America/Denver:20250316T140000
DTEND;TZID=America/Denver:20250316T160000
DTSTAMP:20260424T095019
CREATED:20250209T044710Z
LAST-MODIFIED:20250209T044710Z
UID:10001732-1742133600-1742140800@placitaslibrary.com
SUMMARY:Create to the Music Program Part 2
DESCRIPTION:The sessions will be led by Pam and Peter Colton\, percussionists and founders of the Placitas Drumming Group and Shelley Miller\, visual artist and teacher. Participants will be exposed to a variety of percussion instruments and will practice rhythms.  During the 2nd session\, they will create their own instrument and will participate in their in a concert using their newly created instruments. All materials will be provided.
URL:https://placitaslibrary.com/event/create-to-the-music-program-part-2/
LOCATION:Placitas Community Library\, 453 HWY 165\, Placitas\, NM\, 87043\, United States
CATEGORIES:Children's Programs,Home
ATTACH;FMTTYPE=image/jpeg:https://placitaslibrary.com/wp-content/uploads/2025/02/F-Create-Music-drum1-scaled.jpg
END:VEVENT
BEGIN:VEVENT
DTSTART;TZID=America/Denver:20250312T100000
DTEND;TZID=America/Denver:20250312T110000
DTSTAMP:20260424T095019
CREATED:20240917T201621Z
LAST-MODIFIED:20240919T041703Z
UID:10001453-1741773600-1741777200@placitaslibrary.com
SUMMARY:La Parranda: Club de Español
DESCRIPTION:La Parranda: Club de Español (Every Wed at 10 AM): Enjoy the opportunity to experience español with Diane Herrera Shepard and other guests. The Club is open to anyone who wants to learn\, use\, practice\, or converse in Spanish.
URL:https://placitaslibrary.com/event/la-parranda-club-de-espanol/2025-03-12/
LOCATION:Placitas Community Library\, 453 HWY 165\, Placitas\, NM\, 87043\, United States
CATEGORIES:Adult Programs
ATTACH;FMTTYPE=image/jpeg:https://placitaslibrary.com/wp-content/uploads/2024/05/LA-Parranda-Spanish-Club.jpg
END:VEVENT
BEGIN:VEVENT
DTSTART;TZID=America/Denver:20250311T100000
DTEND;TZID=America/Denver:20250311T110000
DTSTAMP:20260424T095019
CREATED:20250209T234713Z
LAST-MODIFIED:20250209T234713Z
UID:10001733-1741687200-1741690800@placitaslibrary.com
SUMMARY:Pre-K Story Time
DESCRIPTION:Join us for Stories the Wind Tells Us for ages infant – 5:  I Face the Wind\, Like a Windy Day\, and The Wind Blew. Make your own windsock and have a snack.
URL:https://placitaslibrary.com/event/pre-k-story-time/
LOCATION:Placitas Community Library\, 453 HWY 165\, Placitas\, NM\, 87043\, United States
CATEGORIES:Children's Programs,Home
ATTACH;FMTTYPE=image/jpeg:https://placitaslibrary.com/wp-content/uploads/2025/02/F-PreK-MAR-2025-scaled.jpg
END:VEVENT
BEGIN:VEVENT
DTSTART;TZID=America/Denver:20250309T140000
DTEND;TZID=America/Denver:20250309T160000
DTSTAMP:20260424T095019
CREATED:20250209T044529Z
LAST-MODIFIED:20250209T044529Z
UID:10001731-1741528800-1741536000@placitaslibrary.com
SUMMARY:Create to the Music Program
DESCRIPTION:The sessions will be led by Pam and Peter Colton\, percussionists and founders of the Placitas Drumming Group and Shelley Miller\, visual artist and teacher. Participants will be exposed to a variety of percussion instruments and will practice rhythms.  During the 2nd session\, they will create their own instrument and will participate in their in a concert using their newly created instruments. All materials will be provided.
URL:https://placitaslibrary.com/event/create-to-the-music-program/
LOCATION:Placitas Community Library\, 453 HWY 165\, Placitas\, NM\, 87043\, United States
CATEGORIES:Children's Programs,Home
ATTACH;FMTTYPE=image/jpeg:https://placitaslibrary.com/wp-content/uploads/2025/02/F-Create-Music-drum1-scaled.jpg
END:VEVENT
BEGIN:VEVENT
DTSTART;VALUE=DATE:20250308
DTEND;VALUE=DATE:20250410
DTSTAMP:20260424T095019
CREATED:20241020T005931Z
LAST-MODIFIED:20250315T003948Z
UID:10001699-1741392000-1744243199@placitaslibrary.com
SUMMARY:March 2025:  "Abstract Expressions" Art Exhibition
DESCRIPTION:Dive into a realm where boundaries blur and colors\, lines\, and shapes speak louder than words. Experience the raw\, unfiltered thoughts and emotions captured by local artistic visionaries working in a variety of mediums.
URL:https://placitaslibrary.com/event/march-2025-abstract-expressions-art-exhibition/
LOCATION:Placitas Community Library\, 453 HWY 165\, Placitas\, NM\, 87043\, United States
CATEGORIES:Library Schedule
ATTACH;FMTTYPE=image/jpeg:https://placitaslibrary.com/wp-content/uploads/2024/10/Abstract-Poster-cr.jpg
END:VEVENT
BEGIN:VEVENT
DTSTART;TZID=America/Denver:20250307T173000
DTEND;TZID=America/Denver:20250307T183000
DTSTAMP:20260424T095019
CREATED:20250301T222800Z
LAST-MODIFIED:20250301T222800Z
UID:10001735-1741368600-1741372200@placitaslibrary.com
SUMMARY:Dance Out! First Friday drop-in!
DESCRIPTION:All are welcome! Just come and move to the music!
URL:https://placitaslibrary.com/event/dance-out-first-friday-drop-in/
LOCATION:Placitas Community Library\, 453 HWY 165\, Placitas\, NM\, 87043\, United States
CATEGORIES:Adult Programs,Home
ATTACH;FMTTYPE=image/jpeg:https://placitaslibrary.com/wp-content/uploads/2025/03/Dance-Out-flyer-in-word-PCL-playlist.jpg
END:VEVENT
BEGIN:VEVENT
DTSTART;TZID=America/Denver:20250305T100000
DTEND;TZID=America/Denver:20250305T110000
DTSTAMP:20260424T095019
CREATED:20240917T201621Z
LAST-MODIFIED:20240919T041703Z
UID:10001452-1741168800-1741172400@placitaslibrary.com
SUMMARY:La Parranda: Club de Español
DESCRIPTION:La Parranda: Club de Español (Every Wed at 10 AM): Enjoy the opportunity to experience español with Diane Herrera Shepard and other guests. The Club is open to anyone who wants to learn\, use\, practice\, or converse in Spanish.
URL:https://placitaslibrary.com/event/la-parranda-club-de-espanol/2025-03-05/
LOCATION:Placitas Community Library\, 453 HWY 165\, Placitas\, NM\, 87043\, United States
CATEGORIES:Adult Programs
ATTACH;FMTTYPE=image/jpeg:https://placitaslibrary.com/wp-content/uploads/2024/05/LA-Parranda-Spanish-Club.jpg
END:VEVENT
BEGIN:VEVENT
DTSTART;TZID=America/Denver:20250226T100000
DTEND;TZID=America/Denver:20250226T110000
DTSTAMP:20260424T095019
CREATED:20240917T201621Z
LAST-MODIFIED:20240919T041703Z
UID:10001451-1740564000-1740567600@placitaslibrary.com
SUMMARY:La Parranda: Club de Español
DESCRIPTION:La Parranda: Club de Español (Every Wed at 10 AM): Enjoy the opportunity to experience español with Diane Herrera Shepard and other guests. The Club is open to anyone who wants to learn\, use\, practice\, or converse in Spanish.
URL:https://placitaslibrary.com/event/la-parranda-club-de-espanol/2025-02-26/
LOCATION:Placitas Community Library\, 453 HWY 165\, Placitas\, NM\, 87043\, United States
CATEGORIES:Adult Programs
ATTACH;FMTTYPE=image/jpeg:https://placitaslibrary.com/wp-content/uploads/2024/05/LA-Parranda-Spanish-Club.jpg
END:VEVENT
BEGIN:VEVENT
DTSTART;TZID=America/Denver:20250219T100000
DTEND;TZID=America/Denver:20250219T110000
DTSTAMP:20260424T095019
CREATED:20240917T201621Z
LAST-MODIFIED:20240919T041703Z
UID:10001450-1739959200-1739962800@placitaslibrary.com
SUMMARY:La Parranda: Club de Español
DESCRIPTION:La Parranda: Club de Español (Every Wed at 10 AM): Enjoy the opportunity to experience español with Diane Herrera Shepard and other guests. The Club is open to anyone who wants to learn\, use\, practice\, or converse in Spanish.
URL:https://placitaslibrary.com/event/la-parranda-club-de-espanol/2025-02-19/
LOCATION:Placitas Community Library\, 453 HWY 165\, Placitas\, NM\, 87043\, United States
CATEGORIES:Adult Programs
ATTACH;FMTTYPE=image/jpeg:https://placitaslibrary.com/wp-content/uploads/2024/05/LA-Parranda-Spanish-Club.jpg
END:VEVENT
BEGIN:VEVENT
DTSTART;TZID=America/Denver:20250212T100000
DTEND;TZID=America/Denver:20250212T110000
DTSTAMP:20260424T095019
CREATED:20240917T201621Z
LAST-MODIFIED:20240919T041703Z
UID:10001449-1739354400-1739358000@placitaslibrary.com
SUMMARY:La Parranda: Club de Español
DESCRIPTION:La Parranda: Club de Español (Every Wed at 10 AM): Enjoy the opportunity to experience español with Diane Herrera Shepard and other guests. The Club is open to anyone who wants to learn\, use\, practice\, or converse in Spanish.
URL:https://placitaslibrary.com/event/la-parranda-club-de-espanol/2025-02-12/
LOCATION:Placitas Community Library\, 453 HWY 165\, Placitas\, NM\, 87043\, United States
CATEGORIES:Adult Programs
ATTACH;FMTTYPE=image/jpeg:https://placitaslibrary.com/wp-content/uploads/2024/05/LA-Parranda-Spanish-Club.jpg
END:VEVENT
BEGIN:VEVENT
DTSTART;TZID=America/Denver:20250211T100000
DTEND;TZID=America/Denver:20250211T110000
DTSTAMP:20260424T095019
CREATED:20250122T000336Z
LAST-MODIFIED:20250122T000336Z
UID:10001729-1739268000-1739271600@placitaslibrary.com
SUMMARY:Pre-K Story Hour Valentine's Celebration
DESCRIPTION:Please join us for another delightful Pre-K Story Hour for children ages infant – 5.   Count on Valentine Hearts with stories about hearts and numbers with counting fun\, finger plays\, rhymes\, and a 10 Heart\, Happy Snake Activity plus SNACKS!  What more can you want?  A handout with tips for helping your child learn to read is what you want each month.  This advice is from the New Mexico State Library.  Help your child learn to read\, listen\, and have fun while doing it.
URL:https://placitaslibrary.com/event/pre-k-story-hour-valentines-celebration/
LOCATION:Placitas Community Library\, 453 HWY 165\, Placitas\, NM\, 87043\, United States
CATEGORIES:Children's Programs,Home
ATTACH;FMTTYPE=image/jpeg:https://placitaslibrary.com/wp-content/uploads/2025/01/F-PreK-FEB-2025-scaled.jpg
END:VEVENT
BEGIN:VEVENT
DTSTART;TZID=America/Denver:20250207T173000
DTEND;TZID=America/Denver:20250207T183000
DTSTAMP:20260424T095019
CREATED:20250102T201131Z
LAST-MODIFIED:20250112T211501Z
UID:10001725-1738949400-1738953000@placitaslibrary.com
SUMMARY:First Friday Dance Out! with DJ Ken Grimes
DESCRIPTION:Drop-in from 5:30 to 6:30 all ages welcome! No cover and no reservations!
URL:https://placitaslibrary.com/event/first-friday-dance-out-with-dj-ken-grimes/
LOCATION:Placitas Community Library\, 453 HWY 165\, Placitas\, NM\, 87043\, United States
CATEGORIES:Adult Programs,Home
ATTACH;FMTTYPE=image/jpeg:https://placitaslibrary.com/wp-content/uploads/2025/01/DanceOutCorrected.jpg
END:VEVENT
BEGIN:VEVENT
DTSTART;TZID=America/Denver:20250207T170000
DTEND;TZID=America/Denver:20250207T183000
DTSTAMP:20260424T095019
CREATED:20241020T161803Z
LAST-MODIFIED:20241021T021641Z
UID:10001713-1738947600-1738953000@placitaslibrary.com
SUMMARY:February 2025 Reception:  "Wild" - Mosaic of New Mexico Artists
DESCRIPTION:
URL:https://placitaslibrary.com/event/february-2025-reception-wild-mosaic-of-new-mexico-artists/
LOCATION:Placitas Community Library\, 453 HWY 165\, Placitas\, NM\, 87043\, United States
CATEGORIES:Art Exhibit,Library Schedule
ATTACH;FMTTYPE=image/jpeg:https://placitaslibrary.com/wp-content/uploads/2024/10/laura-image-jpg.jpg
END:VEVENT
BEGIN:VEVENT
DTSTART;TZID=America/Denver:20250205T100000
DTEND;TZID=America/Denver:20250205T110000
DTSTAMP:20260424T095019
CREATED:20240917T201621Z
LAST-MODIFIED:20240919T041703Z
UID:10001448-1738749600-1738753200@placitaslibrary.com
SUMMARY:La Parranda: Club de Español
DESCRIPTION:La Parranda: Club de Español (Every Wed at 10 AM): Enjoy the opportunity to experience español with Diane Herrera Shepard and other guests. The Club is open to anyone who wants to learn\, use\, practice\, or converse in Spanish.
URL:https://placitaslibrary.com/event/la-parranda-club-de-espanol/2025-02-05/
LOCATION:Placitas Community Library\, 453 HWY 165\, Placitas\, NM\, 87043\, United States
CATEGORIES:Adult Programs
ATTACH;FMTTYPE=image/jpeg:https://placitaslibrary.com/wp-content/uploads/2024/05/LA-Parranda-Spanish-Club.jpg
END:VEVENT
BEGIN:VEVENT
DTSTART;TZID=America/Denver:20250202T140000
DTEND;TZID=America/Denver:20250202T160000
DTSTAMP:20260424T095019
CREATED:20250122T000038Z
LAST-MODIFIED:20250122T000038Z
UID:10001728-1738504800-1738512000@placitaslibrary.com
SUMMARY:Groundhog Day with the Young Voices of the Santa Fe Opera
DESCRIPTION:Celebrate Groundhog Day with the Young Voices of the Santa Fe Opera.  This presentation is a musical story time based on the children’s book by David Bledryzcki\, Groundhog’s Runaway Shadow.  Children and their families will receive priority seating up front in the first two rows but all ages are welcome.  Join us for a delightful afternoon.  Thank you to the Placitas Artists Series for sponsoring this program. Refreshments will be served.
URL:https://placitaslibrary.com/event/groundhog-day-with-the-young-voices-of-the-santa-fe-opera/
LOCATION:Placitas Community Library\, 453 HWY 165\, Placitas\, NM\, 87043\, United States
CATEGORIES:Children's Programs,Home
ATTACH;FMTTYPE=image/jpeg:https://placitaslibrary.com/wp-content/uploads/2025/01/F-Groundhog-Day-scaled.jpg
END:VEVENT
BEGIN:VEVENT
DTSTART;VALUE=DATE:20250201
DTEND;VALUE=DATE:20250307
DTSTAMP:20260424T095019
CREATED:20241020T000745Z
LAST-MODIFIED:20250201T001240Z
UID:10001698-1738368000-1741305599@placitaslibrary.com
SUMMARY:February 2025:  "WILD" - A Group Mosaic Artist Exhibition
DESCRIPTION:In collaboration with Mosaic New Mexico\, Placitas Library will display work of approximately twenty local mosaic artists. Imagery fanciful\, realistic or design oriented – all will have wild spirit!! \nCoordinators:  Geri Verble & Laura Robbins
URL:https://placitaslibrary.com/event/february-2025-wild-a-group-mosaic-artist-exhibition/
LOCATION:Placitas Community Library\, 453 HWY 165\, Placitas\, NM\, 87043\, United States
CATEGORIES:Art Exhibit,Library Schedule
ATTACH;FMTTYPE=image/jpeg:https://placitaslibrary.com/wp-content/uploads/2024/10/laura-image-jpg.jpg
END:VEVENT
END:VCALENDAR