BEGIN:VCALENDAR
VERSION:2.0
PRODID:-//Placitas Library - ECPv6.15.17.1//NONSGML v1.0//EN
CALSCALE:GREGORIAN
METHOD:PUBLISH
X-ORIGINAL-URL:https://placitaslibrary.com
X-WR-CALDESC:Events for Placitas Library
REFRESH-INTERVAL;VALUE=DURATION:PT1H
X-Robots-Tag:noindex
X-PUBLISHED-TTL:PT1H
BEGIN:VTIMEZONE
TZID:America/Denver
BEGIN:DAYLIGHT
TZOFFSETFROM:-0700
TZOFFSETTO:-0600
TZNAME:MDT
DTSTART:20240310T090000
END:DAYLIGHT
BEGIN:STANDARD
TZOFFSETFROM:-0600
TZOFFSETTO:-0700
TZNAME:MST
DTSTART:20241103T080000
END:STANDARD
BEGIN:DAYLIGHT
TZOFFSETFROM:-0700
TZOFFSETTO:-0600
TZNAME:MDT
DTSTART:20250309T090000
END:DAYLIGHT
BEGIN:STANDARD
TZOFFSETFROM:-0600
TZOFFSETTO:-0700
TZNAME:MST
DTSTART:20251102T080000
END:STANDARD
BEGIN:DAYLIGHT
TZOFFSETFROM:-0700
TZOFFSETTO:-0600
TZNAME:MDT
DTSTART:20260308T090000
END:DAYLIGHT
BEGIN:STANDARD
TZOFFSETFROM:-0600
TZOFFSETTO:-0700
TZNAME:MST
DTSTART:20261101T080000
END:STANDARD
END:VTIMEZONE
BEGIN:VEVENT
DTSTART;TZID=America/Denver:20251015T100000
DTEND;TZID=America/Denver:20251015T110000
DTSTAMP:20260420T131451
CREATED:20240917T201621Z
LAST-MODIFIED:20240919T041703Z
UID:10001484-1760522400-1760526000@placitaslibrary.com
SUMMARY:La Parranda: Club de Español
DESCRIPTION:La Parranda: Club de Español (Every Wed at 10 AM): Enjoy the opportunity to experience español with Diane Herrera Shepard and other guests. The Club is open to anyone who wants to learn\, use\, practice\, or converse in Spanish.
URL:https://placitaslibrary.com/event/la-parranda-club-de-espanol/2025-10-15/
LOCATION:Placitas Community Library\, 453 HWY 165\, Placitas\, NM\, 87043\, United States
CATEGORIES:Adult Programs
ATTACH;FMTTYPE=image/jpeg:https://placitaslibrary.com/wp-content/uploads/2024/05/LA-Parranda-Spanish-Club.jpg
END:VEVENT
BEGIN:VEVENT
DTSTART;TZID=America/Denver:20251014T100000
DTEND;TZID=America/Denver:20251014T110000
DTSTAMP:20260420T131451
CREATED:20251001T035244Z
LAST-MODIFIED:20251001T035244Z
UID:10001766-1760436000-1760439600@placitaslibrary.com
SUMMARY:Pre-K Story Hour: Ebeneezer Helps a Friend
DESCRIPTION:Kyle Hollingsworth\, Placitas resident and artist\, will join us in October.  She will read a new book written by her friend Maggie Wheeler\, Ebeneezer Helps a Friend. Come dressed for Halloween!  There will be treats and activities!
URL:https://placitaslibrary.com/event/pre-k-story-hour-ebeneezer-helps-a-friend/
LOCATION:Placitas Community Library\, 453 HWY 165\, Placitas\, NM\, 87043\, United States
CATEGORIES:Children's Programs,Home
ATTACH;FMTTYPE=image/jpeg:https://placitaslibrary.com/wp-content/uploads/2025/09/F-PreK-OCT-2025-scaled.jpg
END:VEVENT
BEGIN:VEVENT
DTSTART;TZID=America/Denver:20251011T140000
DTEND;TZID=America/Denver:20251011T153000
DTSTAMP:20260420T131451
CREATED:20250911T164839Z
LAST-MODIFIED:20250911T164839Z
UID:10001765-1760191200-1760196600@placitaslibrary.com
SUMMARY:Roadside Geology by Magdalena Donahue
DESCRIPTION:Magdalena Donahue will present a talk on her most recent book\, Roadside Geology of New Mexico.
URL:https://placitaslibrary.com/event/roadside-geology-by-magdalena-donahue/
LOCATION:Placitas Community Library\, 453 HWY 165\, Placitas\, NM\, 87043\, United States
CATEGORIES:Adult Programs,Home
ATTACH;FMTTYPE=image/jpeg:https://placitaslibrary.com/wp-content/uploads/2025/09/RoadsideGeology.jpg
END:VEVENT
BEGIN:VEVENT
DTSTART;TZID=America/Denver:20251008T100000
DTEND;TZID=America/Denver:20251008T110000
DTSTAMP:20260420T131451
CREATED:20240917T201621Z
LAST-MODIFIED:20240919T041703Z
UID:10001483-1759917600-1759921200@placitaslibrary.com
SUMMARY:La Parranda: Club de Español
DESCRIPTION:La Parranda: Club de Español (Every Wed at 10 AM): Enjoy the opportunity to experience español with Diane Herrera Shepard and other guests. The Club is open to anyone who wants to learn\, use\, practice\, or converse in Spanish.
URL:https://placitaslibrary.com/event/la-parranda-club-de-espanol/2025-10-08/
LOCATION:Placitas Community Library\, 453 HWY 165\, Placitas\, NM\, 87043\, United States
CATEGORIES:Adult Programs
ATTACH;FMTTYPE=image/jpeg:https://placitaslibrary.com/wp-content/uploads/2024/05/LA-Parranda-Spanish-Club.jpg
END:VEVENT
BEGIN:VEVENT
DTSTART;TZID=America/Denver:20251004T140000
DTEND;TZID=America/Denver:20251004T160000
DTSTAMP:20260420T131451
CREATED:20250812T161141Z
LAST-MODIFIED:20250812T161141Z
UID:10001760-1759586400-1759593600@placitaslibrary.com
SUMMARY:Talking About Money: Can it be easier?
DESCRIPTION:Conversations about money don’t have to be so nerve-wracking. Whether you have to talk to parents\, children\, your employer\, or potential donors for your favorite cause\, getting the courage to talk about money can be tough.  Even facing your own internal thoughts about money\, and taking positive steps can be hard\, and that’s only involving you! When you have to talk to others\, often sweaty palms or avoidance all together are our default setting.  So let’s get rid of some of that nervousness and anxiety about money conversations and make it a bit easier. We will spend this time talking tips and tools for building confidence around money conversations.
URL:https://placitaslibrary.com/event/talking-about-money-can-it-be-easier/
LOCATION:Placitas Community Library\, 453 HWY 165\, Placitas\, NM\, 87043\, United States
CATEGORIES:Adult Programs,Home
ATTACH;FMTTYPE=image/jpeg:https://placitaslibrary.com/wp-content/uploads/2025/08/F-Financial-flyer-final-scaled.jpg
END:VEVENT
BEGIN:VEVENT
DTSTART;TZID=America/Denver:20251003T170000
DTEND;TZID=America/Denver:20251003T183000
DTSTAMP:20260420T131451
CREATED:20241020T041822Z
LAST-MODIFIED:20250929T130710Z
UID:10001712-1759510800-1759516200@placitaslibrary.com
SUMMARY:October Artist Reception:  "Poetrees"
DESCRIPTION:“Ailanthus”\nArtist:  Molly Zurek
URL:https://placitaslibrary.com/event/september-2025-artist-reception-poetrees/
LOCATION:Placitas Community Library\, 453 HWY 165\, Placitas\, NM\, 87043\, United States
CATEGORIES:Art Exhibit,Home,Library Schedule
ATTACH;FMTTYPE=image/jpeg:https://placitaslibrary.com/wp-content/uploads/2025/09/Zurek-Molly_Ailanthus-1-scaled.jpeg
END:VEVENT
BEGIN:VEVENT
DTSTART;TZID=America/Denver:20251001T100000
DTEND;TZID=America/Denver:20251001T110000
DTSTAMP:20260420T131451
CREATED:20240917T201621Z
LAST-MODIFIED:20240919T041703Z
UID:10001482-1759312800-1759316400@placitaslibrary.com
SUMMARY:La Parranda: Club de Español
DESCRIPTION:La Parranda: Club de Español (Every Wed at 10 AM): Enjoy the opportunity to experience español with Diane Herrera Shepard and other guests. The Club is open to anyone who wants to learn\, use\, practice\, or converse in Spanish.
URL:https://placitaslibrary.com/event/la-parranda-club-de-espanol/2025-10-01/
LOCATION:Placitas Community Library\, 453 HWY 165\, Placitas\, NM\, 87043\, United States
CATEGORIES:Adult Programs
ATTACH;FMTTYPE=image/jpeg:https://placitaslibrary.com/wp-content/uploads/2024/05/LA-Parranda-Spanish-Club.jpg
END:VEVENT
BEGIN:VEVENT
DTSTART;TZID=America/Denver:20250924T100000
DTEND;TZID=America/Denver:20250924T110000
DTSTAMP:20260420T131451
CREATED:20240917T201621Z
LAST-MODIFIED:20240919T041703Z
UID:10001481-1758708000-1758711600@placitaslibrary.com
SUMMARY:La Parranda: Club de Español
DESCRIPTION:La Parranda: Club de Español (Every Wed at 10 AM): Enjoy the opportunity to experience español with Diane Herrera Shepard and other guests. The Club is open to anyone who wants to learn\, use\, practice\, or converse in Spanish.
URL:https://placitaslibrary.com/event/la-parranda-club-de-espanol/2025-09-24/
LOCATION:Placitas Community Library\, 453 HWY 165\, Placitas\, NM\, 87043\, United States
CATEGORIES:Adult Programs
ATTACH;FMTTYPE=image/jpeg:https://placitaslibrary.com/wp-content/uploads/2024/05/LA-Parranda-Spanish-Club.jpg
END:VEVENT
BEGIN:VEVENT
DTSTART;VALUE=DATE:20250923
DTEND;VALUE=DATE:20251014
DTSTAMP:20260420T131451
CREATED:20241020T025215Z
LAST-MODIFIED:20250929T131150Z
UID:10001708-1758585600-1760399999@placitaslibrary.com
SUMMARY:September 2025:  "Poetrees" Art Exhibition
DESCRIPTION:“Trees are poems that the earth writes upon the sky.”\n— Kahlil Gibran \nArtists were asked to create a portrait of a tree or trees or to explore the abstract essence of trees in their work. May it be a poetic rendering of a favorite tree or a visual expression of concern for the future of forests around the world\, this is the opportunity to “hug a tree” with your eyes. \n“I Can’t Get Out of the Way”\nArtist:  Tara Hoyer \n  \n\n\n\n\n 
URL:https://placitaslibrary.com/event/august-2025-placitas-garden-tour-artists-exhibition/
LOCATION:Placitas Community Library\, 453 HWY 165\, Placitas\, NM\, 87043\, United States
CATEGORIES:Art Exhibit,Home,Library Schedule
ATTACH;FMTTYPE=image/jpeg:https://placitaslibrary.com/wp-content/uploads/2024/10/Copy-of-Hoyer-Tara_I-cant-get-out-of-the-way-scaled.jpeg
END:VEVENT
BEGIN:VEVENT
DTSTART;TZID=America/Denver:20250917T100000
DTEND;TZID=America/Denver:20250917T110000
DTSTAMP:20260420T131451
CREATED:20240917T201621Z
LAST-MODIFIED:20240919T041703Z
UID:10001480-1758103200-1758106800@placitaslibrary.com
SUMMARY:La Parranda: Club de Español
DESCRIPTION:La Parranda: Club de Español (Every Wed at 10 AM): Enjoy the opportunity to experience español with Diane Herrera Shepard and other guests. The Club is open to anyone who wants to learn\, use\, practice\, or converse in Spanish.
URL:https://placitaslibrary.com/event/la-parranda-club-de-espanol/2025-09-17/
LOCATION:Placitas Community Library\, 453 HWY 165\, Placitas\, NM\, 87043\, United States
CATEGORIES:Adult Programs
ATTACH;FMTTYPE=image/jpeg:https://placitaslibrary.com/wp-content/uploads/2024/05/LA-Parranda-Spanish-Club.jpg
END:VEVENT
BEGIN:VEVENT
DTSTART;TZID=America/Denver:20250914T130000
DTEND;TZID=America/Denver:20250914T150000
DTSTAMP:20260420T131451
CREATED:20250830T040308Z
LAST-MODIFIED:20250830T040308Z
UID:10001764-1757854800-1757862000@placitaslibrary.com
SUMMARY:To Bee or Not to Bee - Learn about Honey Bees Children's Event
DESCRIPTION:To Bee or Not to Bee – Learn about Honey Bees\,  beehives\, try on a beekeeper’s outfit and participate in a honey tasting with beekeeper\, Kamyar Rahimian.  Just to let you know the honey is not pasteurized or processed.  It is straight from the honeycomb.  Therefore\, when you sign in\, parents must give written permission for children to try it.  We will provide the form.  Buzz on over to the library for this fun and educational activity!
URL:https://placitaslibrary.com/event/to-bee-or-not-to-bee-learn-about-honey-bees-childrens-event/
LOCATION:Placitas Community Library\, 453 HWY 165\, Placitas\, NM\, 87043\, United States
CATEGORIES:Children's Programs,Home
ATTACH;FMTTYPE=image/jpeg:https://placitaslibrary.com/wp-content/uploads/2025/08/F2-Honeybees.jpg
END:VEVENT
BEGIN:VEVENT
DTSTART;TZID=America/Denver:20250913T140000
DTEND;TZID=America/Denver:20250913T160000
DTSTAMP:20260420T131451
CREATED:20250812T161005Z
LAST-MODIFIED:20250812T161005Z
UID:10001759-1757772000-1757779200@placitaslibrary.com
SUMMARY:Protecting Yourself from Financial Scams
DESCRIPTION:Sept 13 at 2pm \nWe are all worried of financial scams. And we have good reason to be nervous. We are wired to fall for scams. And they are on the rise.  They are also getting more sophisticated.  We are going to talk about research on scams\, why people fall for them and how to protect yourself from financial scams. The more you know\, the more discerning and proactive you can be to protect your financial information and your financial accounts.
URL:https://placitaslibrary.com/event/protecting-yourself-from-financial-scams/
LOCATION:Placitas Community Library\, 453 HWY 165\, Placitas\, NM\, 87043\, United States
CATEGORIES:Adult Programs,Home
ATTACH;FMTTYPE=image/jpeg:https://placitaslibrary.com/wp-content/uploads/2025/08/F-Financial-flyer-final-scaled.jpg
END:VEVENT
BEGIN:VEVENT
DTSTART;TZID=America/Denver:20250910T100000
DTEND;TZID=America/Denver:20250910T110000
DTSTAMP:20260420T131451
CREATED:20240917T201621Z
LAST-MODIFIED:20240919T041703Z
UID:10001479-1757498400-1757502000@placitaslibrary.com
SUMMARY:La Parranda: Club de Español
DESCRIPTION:La Parranda: Club de Español (Every Wed at 10 AM): Enjoy the opportunity to experience español with Diane Herrera Shepard and other guests. The Club is open to anyone who wants to learn\, use\, practice\, or converse in Spanish.
URL:https://placitaslibrary.com/event/la-parranda-club-de-espanol/2025-09-10/
LOCATION:Placitas Community Library\, 453 HWY 165\, Placitas\, NM\, 87043\, United States
CATEGORIES:Adult Programs
ATTACH;FMTTYPE=image/jpeg:https://placitaslibrary.com/wp-content/uploads/2024/05/LA-Parranda-Spanish-Club.jpg
END:VEVENT
BEGIN:VEVENT
DTSTART;TZID=America/Denver:20250909T100000
DTEND;TZID=America/Denver:20250909T110000
DTSTAMP:20260420T131451
CREATED:20250830T040016Z
LAST-MODIFIED:20250830T040016Z
UID:10001763-1757412000-1757415600@placitaslibrary.com
SUMMARY:Pre-K Story Time Nature's Whispers: A Journey Through Leaves and Trees. 
DESCRIPTION:Pre-K Story Time for children ages 0-5.  The theme is “Nature’s Whispers:  A Journey Through Leaves and Trees.  The books are: One Day This Tree Will Fall\, Leslie Barnard Booth\, A Tree is Nice\, Janice May Udry\, The Leaf Thief\, Alice Hemming.  Participate in a Leaf Rubbing craft and have a Leaf Shaped Snack.
URL:https://placitaslibrary.com/event/pre-k-story-time-natures-whispers-a-journey-through-leaves-and-trees/
LOCATION:Placitas Community Library\, 453 HWY 165\, Placitas\, NM\, 87043\, United States
CATEGORIES:Children's Programs,Home
ATTACH;FMTTYPE=image/jpeg:https://placitaslibrary.com/wp-content/uploads/2025/08/F-PreK-SEPT-2025-scaled.jpg
END:VEVENT
BEGIN:VEVENT
DTSTART;TZID=America/Denver:20250907T100000
DTEND;TZID=America/Denver:20250907T150000
DTSTAMP:20260420T131451
CREATED:20250830T035717Z
LAST-MODIFIED:20250830T035717Z
UID:10001762-1757239200-1757257200@placitaslibrary.com
SUMMARY:Garden Tour Seed Balls for Children
DESCRIPTION:As part of the Garden Tour\, we will be making seed balls from 10-3 or until supplies run out.  This activity is for adults as well.
URL:https://placitaslibrary.com/event/garden-tour-seed-balls-for-children/
LOCATION:Placitas Community Library\, 453 HWY 165\, Placitas\, NM\, 87043\, United States
CATEGORIES:Children's Programs,Home
ATTACH;FMTTYPE=image/jpeg:https://placitaslibrary.com/wp-content/uploads/2025/08/F2-Seed-Ball.jpg
END:VEVENT
BEGIN:VEVENT
DTSTART;TZID=America/Denver:20250905T173000
DTEND;TZID=America/Denver:20250905T190000
DTSTAMP:20260420T131451
CREATED:20250812T161613Z
LAST-MODIFIED:20250812T161731Z
UID:10001761-1757093400-1757098800@placitaslibrary.com
SUMMARY:Dance Out Friday!
DESCRIPTION:Dance Out! You are invited to boogie featuring Ken Grimes from 89.9 KUPR.
URL:https://placitaslibrary.com/event/dance-out-friday-sept-5/
LOCATION:Placitas Community Library\, 453 HWY 165\, Placitas\, NM\, 87043\, United States
CATEGORIES:Adult Programs,Home
END:VEVENT
BEGIN:VEVENT
DTSTART;TZID=America/Denver:20250903T100000
DTEND;TZID=America/Denver:20250903T110000
DTSTAMP:20260420T131451
CREATED:20240917T201621Z
LAST-MODIFIED:20240919T041703Z
UID:10001478-1756893600-1756897200@placitaslibrary.com
SUMMARY:La Parranda: Club de Español
DESCRIPTION:La Parranda: Club de Español (Every Wed at 10 AM): Enjoy the opportunity to experience español with Diane Herrera Shepard and other guests. The Club is open to anyone who wants to learn\, use\, practice\, or converse in Spanish.
URL:https://placitaslibrary.com/event/la-parranda-club-de-espanol/2025-09-03/
LOCATION:Placitas Community Library\, 453 HWY 165\, Placitas\, NM\, 87043\, United States
CATEGORIES:Adult Programs
ATTACH;FMTTYPE=image/jpeg:https://placitaslibrary.com/wp-content/uploads/2024/05/LA-Parranda-Spanish-Club.jpg
END:VEVENT
BEGIN:VEVENT
DTSTART;TZID=America/Denver:20250827T100000
DTEND;TZID=America/Denver:20250827T110000
DTSTAMP:20260420T131451
CREATED:20240917T201621Z
LAST-MODIFIED:20240919T041703Z
UID:10001477-1756288800-1756292400@placitaslibrary.com
SUMMARY:La Parranda: Club de Español
DESCRIPTION:La Parranda: Club de Español (Every Wed at 10 AM): Enjoy the opportunity to experience español with Diane Herrera Shepard and other guests. The Club is open to anyone who wants to learn\, use\, practice\, or converse in Spanish.
URL:https://placitaslibrary.com/event/la-parranda-club-de-espanol/2025-08-27/
LOCATION:Placitas Community Library\, 453 HWY 165\, Placitas\, NM\, 87043\, United States
CATEGORIES:Adult Programs
ATTACH;FMTTYPE=image/jpeg:https://placitaslibrary.com/wp-content/uploads/2024/05/LA-Parranda-Spanish-Club.jpg
END:VEVENT
BEGIN:VEVENT
DTSTART;TZID=America/Denver:20250820T100000
DTEND;TZID=America/Denver:20250820T110000
DTSTAMP:20260420T131451
CREATED:20240917T201621Z
LAST-MODIFIED:20240919T041703Z
UID:10001476-1755684000-1755687600@placitaslibrary.com
SUMMARY:La Parranda: Club de Español
DESCRIPTION:La Parranda: Club de Español (Every Wed at 10 AM): Enjoy the opportunity to experience español with Diane Herrera Shepard and other guests. The Club is open to anyone who wants to learn\, use\, practice\, or converse in Spanish.
URL:https://placitaslibrary.com/event/la-parranda-club-de-espanol/2025-08-20/
LOCATION:Placitas Community Library\, 453 HWY 165\, Placitas\, NM\, 87043\, United States
CATEGORIES:Adult Programs
ATTACH;FMTTYPE=image/jpeg:https://placitaslibrary.com/wp-content/uploads/2024/05/LA-Parranda-Spanish-Club.jpg
END:VEVENT
BEGIN:VEVENT
DTSTART;TZID=America/Denver:20250817T100000
DTEND;TZID=America/Denver:20250817T140000
DTSTAMP:20260420T131451
CREATED:20250802T202039Z
LAST-MODIFIED:20250802T202039Z
UID:10001758-1755424800-1755439200@placitaslibrary.com
SUMMARY:Wonders on Wheels!
DESCRIPTION:WoW!  The Wonder on Wheels mobile museum exhibit is coming to the Placitas Community Library.  Come when you like and stay as long as you like. The Children’s Committee is sponsoring this program but All ages are welcome!  Allow time to enter the WoW van and participate in the interactive exhibits to learn about the many cultures and historic sites in our beautiful state of New Mexico.
URL:https://placitaslibrary.com/event/wonders-on-wheels/
LOCATION:Placitas Community Library\, 453 HWY 165\, Placitas\, NM\, 87043\, United States
CATEGORIES:Children's Programs,Home
ATTACH;FMTTYPE=image/jpeg:https://placitaslibrary.com/wp-content/uploads/2025/08/F-Wonder-on-Wheels-scaled.jpg
END:VEVENT
BEGIN:VEVENT
DTSTART;TZID=America/Denver:20250816T140000
DTEND;TZID=America/Denver:20250816T153000
DTSTAMP:20260420T131451
CREATED:20250715T152843Z
LAST-MODIFIED:20250812T215607Z
UID:10001756-1755352800-1755358200@placitaslibrary.com
SUMMARY:PCL Concert and Fundraiser
DESCRIPTION:Please come to our Concert and Fundraiser with  singer-songwriters James Bell\, Anna Rudolph\, and Dennis Bumgarner! $20 Donation and refreshments! \n\n\n\n 
URL:https://placitaslibrary.com/event/pcl-concert-and-fundraiser/
LOCATION:Placitas Community Library\, 453 HWY 165\, Placitas\, NM\, 87043\, United States
CATEGORIES:Adult Programs,Fundraising,Home
ATTACH;FMTTYPE=image/jpeg:https://placitaslibrary.com/wp-content/uploads/2025/08/updatedConcertflier.jpg
END:VEVENT
BEGIN:VEVENT
DTSTART;VALUE=DATE:20250816
DTEND;VALUE=DATE:20250922
DTSTAMP:20260420T131451
CREATED:20241020T034952Z
LAST-MODIFIED:20250929T130824Z
UID:10001709-1755302400-1758499199@placitaslibrary.com
SUMMARY:August 2025:  Placitas Garden Tour Artist Exhibition
DESCRIPTION:The artists in the gardens bring their work into the library creating a collection of color and calm. \nCoordinators: Sue Ortiz and Sandy Johnson
URL:https://placitaslibrary.com/event/august-2025-placitas-garden-tour-artist-exhibition/
LOCATION:Placitas Community Library\, 453 HWY 165\, Placitas\, NM\, 87043\, United States
ATTACH;FMTTYPE=image/jpeg:https://placitaslibrary.com/wp-content/uploads/2024/10/2025_PGT_Poster_18x24_FINAL-scaled.jpg
END:VEVENT
BEGIN:VEVENT
DTSTART;TZID=America/Denver:20250813T100000
DTEND;TZID=America/Denver:20250813T110000
DTSTAMP:20260420T131451
CREATED:20240917T201621Z
LAST-MODIFIED:20240919T041703Z
UID:10001475-1755079200-1755082800@placitaslibrary.com
SUMMARY:La Parranda: Club de Español
DESCRIPTION:La Parranda: Club de Español (Every Wed at 10 AM): Enjoy the opportunity to experience español with Diane Herrera Shepard and other guests. The Club is open to anyone who wants to learn\, use\, practice\, or converse in Spanish.
URL:https://placitaslibrary.com/event/la-parranda-club-de-espanol/2025-08-13/
LOCATION:Placitas Community Library\, 453 HWY 165\, Placitas\, NM\, 87043\, United States
CATEGORIES:Adult Programs
ATTACH;FMTTYPE=image/jpeg:https://placitaslibrary.com/wp-content/uploads/2024/05/LA-Parranda-Spanish-Club.jpg
END:VEVENT
BEGIN:VEVENT
DTSTART;TZID=America/Denver:20250812T100000
DTEND;TZID=America/Denver:20250812T110000
DTSTAMP:20260420T131451
CREATED:20250802T201538Z
LAST-MODIFIED:20250802T201538Z
UID:10001757-1754992800-1754996400@placitaslibrary.com
SUMMARY:Pre-K Reading Hour: Friendly Fish Tales
DESCRIPTION:Children will meet some favorite characters of children’s literature when they hear the stories of Rainbow Fish by Marcus Pfister\, Swimmy by Leo Leonni\, and Baby Beluga by Raffi.  This session will be led by one of our newest volunteers\, Kathy Suydam\, a retired Montesorri pre-k teacher.  She’s an expert.  Come hear her!  Activities and snacks included!
URL:https://placitaslibrary.com/event/pre-k-reading-hour-friendly-fish-tales/
LOCATION:Placitas Community Library\, 453 HWY 165\, Placitas\, NM\, 87043\, United States
CATEGORIES:Children's Programs,Home
ATTACH;FMTTYPE=image/jpeg:https://placitaslibrary.com/wp-content/uploads/2025/08/F-PreK-AUG-2025-scaled.jpg
END:VEVENT
BEGIN:VEVENT
DTSTART;TZID=America/Denver:20250808T170000
DTEND;TZID=America/Denver:20250808T183000
DTSTAMP:20260420T131451
CREATED:20241020T023824Z
LAST-MODIFIED:20250817T023256Z
UID:10001707-1754672400-1754677800@placitaslibrary.com
SUMMARY:Aug 2025 Artist Reception:  "Raining Cats & Dogs"
DESCRIPTION:
URL:https://placitaslibrary.com/event/july-2025-artist-reception-raining-cats-dogs/
LOCATION:Placitas Community Library\, 453 HWY 165\, Placitas\, NM\, 87043\, United States
ATTACH;FMTTYPE=image/jpeg:https://placitaslibrary.com/wp-content/uploads/2024/10/Patterson-Roth_photo-scaled.jpg
END:VEVENT
BEGIN:VEVENT
DTSTART;TZID=America/Denver:20250806T100000
DTEND;TZID=America/Denver:20250806T110000
DTSTAMP:20260420T131451
CREATED:20240917T201621Z
LAST-MODIFIED:20240919T041703Z
UID:10001474-1754474400-1754478000@placitaslibrary.com
SUMMARY:La Parranda: Club de Español
DESCRIPTION:La Parranda: Club de Español (Every Wed at 10 AM): Enjoy the opportunity to experience español with Diane Herrera Shepard and other guests. The Club is open to anyone who wants to learn\, use\, practice\, or converse in Spanish.
URL:https://placitaslibrary.com/event/la-parranda-club-de-espanol/2025-08-06/
LOCATION:Placitas Community Library\, 453 HWY 165\, Placitas\, NM\, 87043\, United States
CATEGORIES:Adult Programs
ATTACH;FMTTYPE=image/jpeg:https://placitaslibrary.com/wp-content/uploads/2024/05/LA-Parranda-Spanish-Club.jpg
END:VEVENT
BEGIN:VEVENT
DTSTART;TZID=America/Denver:20250730T100000
DTEND;TZID=America/Denver:20250730T110000
DTSTAMP:20260420T131451
CREATED:20240917T201621Z
LAST-MODIFIED:20240919T041703Z
UID:10001473-1753869600-1753873200@placitaslibrary.com
SUMMARY:La Parranda: Club de Español
DESCRIPTION:La Parranda: Club de Español (Every Wed at 10 AM): Enjoy the opportunity to experience español with Diane Herrera Shepard and other guests. The Club is open to anyone who wants to learn\, use\, practice\, or converse in Spanish.
URL:https://placitaslibrary.com/event/la-parranda-club-de-espanol/2025-07-30/
LOCATION:Placitas Community Library\, 453 HWY 165\, Placitas\, NM\, 87043\, United States
CATEGORIES:Adult Programs
ATTACH;FMTTYPE=image/jpeg:https://placitaslibrary.com/wp-content/uploads/2024/05/LA-Parranda-Spanish-Club.jpg
END:VEVENT
BEGIN:VEVENT
DTSTART;TZID=America/Denver:20250726T130000
DTEND;TZID=America/Denver:20250726T130000
DTSTAMP:20260420T131451
CREATED:20250616T220017Z
LAST-MODIFIED:20250616T220017Z
UID:10001754-1753534800-1753534800@placitaslibrary.com
SUMMARY:Childrens Summer Reading Program
DESCRIPTION:See all our events here.
URL:https://placitaslibrary.com/event/childrens-summer-reading-program-5/
LOCATION:Placitas Community Library\, 453 HWY 165\, Placitas\, NM\, 87043\, United States
CATEGORIES:Children's Programs,Home
ATTACH;FMTTYPE=image/jpeg:https://placitaslibrary.com/wp-content/uploads/2025/05/F-Summer-Programs-20251-scaled.jpg
END:VEVENT
BEGIN:VEVENT
DTSTART;TZID=America/Denver:20250723T100000
DTEND;TZID=America/Denver:20250723T110000
DTSTAMP:20260420T131451
CREATED:20240917T201621Z
LAST-MODIFIED:20240919T041703Z
UID:10001472-1753264800-1753268400@placitaslibrary.com
SUMMARY:La Parranda: Club de Español
DESCRIPTION:La Parranda: Club de Español (Every Wed at 10 AM): Enjoy the opportunity to experience español with Diane Herrera Shepard and other guests. The Club is open to anyone who wants to learn\, use\, practice\, or converse in Spanish.
URL:https://placitaslibrary.com/event/la-parranda-club-de-espanol/2025-07-23/
LOCATION:Placitas Community Library\, 453 HWY 165\, Placitas\, NM\, 87043\, United States
CATEGORIES:Adult Programs
ATTACH;FMTTYPE=image/jpeg:https://placitaslibrary.com/wp-content/uploads/2024/05/LA-Parranda-Spanish-Club.jpg
END:VEVENT
BEGIN:VEVENT
DTSTART;TZID=America/Denver:20250719T130000
DTEND;TZID=America/Denver:20250719T130000
DTSTAMP:20260420T131451
CREATED:20250616T215912Z
LAST-MODIFIED:20250616T215912Z
UID:10001753-1752930000-1752930000@placitaslibrary.com
SUMMARY:Childrens Summer Reading Program
DESCRIPTION:See all our events here.
URL:https://placitaslibrary.com/event/childrens-summer-reading-program-4/
LOCATION:Placitas Community Library\, 453 HWY 165\, Placitas\, NM\, 87043\, United States
CATEGORIES:Children's Programs,Home
ATTACH;FMTTYPE=image/jpeg:https://placitaslibrary.com/wp-content/uploads/2025/05/F-Summer-Programs-20251-scaled.jpg
END:VEVENT
END:VCALENDAR