BEGIN:VCALENDAR
VERSION:2.0
PRODID:-//Placitas Library - ECPv6.15.20//NONSGML v1.0//EN
CALSCALE:GREGORIAN
METHOD:PUBLISH
X-WR-CALNAME:Placitas Library
X-ORIGINAL-URL:https://placitaslibrary.com
X-WR-CALDESC:Events for Placitas Library
REFRESH-INTERVAL;VALUE=DURATION:PT1H
X-Robots-Tag:noindex
X-PUBLISHED-TTL:PT1H
BEGIN:VTIMEZONE
TZID:America/Denver
BEGIN:DAYLIGHT
TZOFFSETFROM:-0700
TZOFFSETTO:-0600
TZNAME:MDT
DTSTART:20240310T090000
END:DAYLIGHT
BEGIN:STANDARD
TZOFFSETFROM:-0600
TZOFFSETTO:-0700
TZNAME:MST
DTSTART:20241103T080000
END:STANDARD
BEGIN:DAYLIGHT
TZOFFSETFROM:-0700
TZOFFSETTO:-0600
TZNAME:MDT
DTSTART:20250309T090000
END:DAYLIGHT
BEGIN:STANDARD
TZOFFSETFROM:-0600
TZOFFSETTO:-0700
TZNAME:MST
DTSTART:20251102T080000
END:STANDARD
BEGIN:DAYLIGHT
TZOFFSETFROM:-0700
TZOFFSETTO:-0600
TZNAME:MDT
DTSTART:20260308T090000
END:DAYLIGHT
BEGIN:STANDARD
TZOFFSETFROM:-0600
TZOFFSETTO:-0700
TZNAME:MST
DTSTART:20261101T080000
END:STANDARD
END:VTIMEZONE
BEGIN:VEVENT
DTSTART;TZID=America/Denver:20250812T100000
DTEND;TZID=America/Denver:20250812T110000
DTSTAMP:20260424T105653
CREATED:20250802T201538Z
LAST-MODIFIED:20250802T201538Z
UID:10001757-1754992800-1754996400@placitaslibrary.com
SUMMARY:Pre-K Reading Hour: Friendly Fish Tales
DESCRIPTION:Children will meet some favorite characters of children’s literature when they hear the stories of Rainbow Fish by Marcus Pfister\, Swimmy by Leo Leonni\, and Baby Beluga by Raffi.  This session will be led by one of our newest volunteers\, Kathy Suydam\, a retired Montesorri pre-k teacher.  She’s an expert.  Come hear her!  Activities and snacks included!
URL:https://placitaslibrary.com/event/pre-k-reading-hour-friendly-fish-tales/
LOCATION:Placitas Community Library\, 453 HWY 165\, Placitas\, NM\, 87043\, United States
CATEGORIES:Children's Programs,Home
ATTACH;FMTTYPE=image/jpeg:https://placitaslibrary.com/wp-content/uploads/2025/08/F-PreK-AUG-2025-scaled.jpg
END:VEVENT
BEGIN:VEVENT
DTSTART;TZID=America/Denver:20250808T170000
DTEND;TZID=America/Denver:20250808T183000
DTSTAMP:20260424T105653
CREATED:20241020T023824Z
LAST-MODIFIED:20250817T023256Z
UID:10001707-1754672400-1754677800@placitaslibrary.com
SUMMARY:Aug 2025 Artist Reception:  "Raining Cats & Dogs"
DESCRIPTION:
URL:https://placitaslibrary.com/event/july-2025-artist-reception-raining-cats-dogs/
LOCATION:Placitas Community Library\, 453 HWY 165\, Placitas\, NM\, 87043\, United States
ATTACH;FMTTYPE=image/jpeg:https://placitaslibrary.com/wp-content/uploads/2024/10/Patterson-Roth_photo-scaled.jpg
END:VEVENT
BEGIN:VEVENT
DTSTART;TZID=America/Denver:20250806T100000
DTEND;TZID=America/Denver:20250806T110000
DTSTAMP:20260424T105653
CREATED:20240917T201621Z
LAST-MODIFIED:20240919T041703Z
UID:10001474-1754474400-1754478000@placitaslibrary.com
SUMMARY:La Parranda: Club de Español
DESCRIPTION:La Parranda: Club de Español (Every Wed at 10 AM): Enjoy the opportunity to experience español with Diane Herrera Shepard and other guests. The Club is open to anyone who wants to learn\, use\, practice\, or converse in Spanish.
URL:https://placitaslibrary.com/event/la-parranda-club-de-espanol/2025-08-06/
LOCATION:Placitas Community Library\, 453 HWY 165\, Placitas\, NM\, 87043\, United States
CATEGORIES:Adult Programs
ATTACH;FMTTYPE=image/jpeg:https://placitaslibrary.com/wp-content/uploads/2024/05/LA-Parranda-Spanish-Club.jpg
END:VEVENT
BEGIN:VEVENT
DTSTART;TZID=America/Denver:20250730T100000
DTEND;TZID=America/Denver:20250730T110000
DTSTAMP:20260424T105653
CREATED:20240917T201621Z
LAST-MODIFIED:20240919T041703Z
UID:10001473-1753869600-1753873200@placitaslibrary.com
SUMMARY:La Parranda: Club de Español
DESCRIPTION:La Parranda: Club de Español (Every Wed at 10 AM): Enjoy the opportunity to experience español with Diane Herrera Shepard and other guests. The Club is open to anyone who wants to learn\, use\, practice\, or converse in Spanish.
URL:https://placitaslibrary.com/event/la-parranda-club-de-espanol/2025-07-30/
LOCATION:Placitas Community Library\, 453 HWY 165\, Placitas\, NM\, 87043\, United States
CATEGORIES:Adult Programs
ATTACH;FMTTYPE=image/jpeg:https://placitaslibrary.com/wp-content/uploads/2024/05/LA-Parranda-Spanish-Club.jpg
END:VEVENT
BEGIN:VEVENT
DTSTART;TZID=America/Denver:20250726T130000
DTEND;TZID=America/Denver:20250726T130000
DTSTAMP:20260424T105653
CREATED:20250616T220017Z
LAST-MODIFIED:20250616T220017Z
UID:10001754-1753534800-1753534800@placitaslibrary.com
SUMMARY:Childrens Summer Reading Program
DESCRIPTION:See all our events here.
URL:https://placitaslibrary.com/event/childrens-summer-reading-program-5/
LOCATION:Placitas Community Library\, 453 HWY 165\, Placitas\, NM\, 87043\, United States
CATEGORIES:Children's Programs,Home
ATTACH;FMTTYPE=image/jpeg:https://placitaslibrary.com/wp-content/uploads/2025/05/F-Summer-Programs-20251-scaled.jpg
END:VEVENT
BEGIN:VEVENT
DTSTART;TZID=America/Denver:20250723T100000
DTEND;TZID=America/Denver:20250723T110000
DTSTAMP:20260424T105653
CREATED:20240917T201621Z
LAST-MODIFIED:20240919T041703Z
UID:10001472-1753264800-1753268400@placitaslibrary.com
SUMMARY:La Parranda: Club de Español
DESCRIPTION:La Parranda: Club de Español (Every Wed at 10 AM): Enjoy the opportunity to experience español with Diane Herrera Shepard and other guests. The Club is open to anyone who wants to learn\, use\, practice\, or converse in Spanish.
URL:https://placitaslibrary.com/event/la-parranda-club-de-espanol/2025-07-23/
LOCATION:Placitas Community Library\, 453 HWY 165\, Placitas\, NM\, 87043\, United States
CATEGORIES:Adult Programs
ATTACH;FMTTYPE=image/jpeg:https://placitaslibrary.com/wp-content/uploads/2024/05/LA-Parranda-Spanish-Club.jpg
END:VEVENT
BEGIN:VEVENT
DTSTART;TZID=America/Denver:20250719T130000
DTEND;TZID=America/Denver:20250719T130000
DTSTAMP:20260424T105653
CREATED:20250616T215912Z
LAST-MODIFIED:20250616T215912Z
UID:10001753-1752930000-1752930000@placitaslibrary.com
SUMMARY:Childrens Summer Reading Program
DESCRIPTION:See all our events here.
URL:https://placitaslibrary.com/event/childrens-summer-reading-program-4/
LOCATION:Placitas Community Library\, 453 HWY 165\, Placitas\, NM\, 87043\, United States
CATEGORIES:Children's Programs,Home
ATTACH;FMTTYPE=image/jpeg:https://placitaslibrary.com/wp-content/uploads/2025/05/F-Summer-Programs-20251-scaled.jpg
END:VEVENT
BEGIN:VEVENT
DTSTART;VALUE=DATE:20250719
DTEND;VALUE=DATE:20250815
DTSTAMP:20260424T105653
CREATED:20241020T022906Z
LAST-MODIFIED:20250907T221307Z
UID:10001706-1752883200-1755215999@placitaslibrary.com
SUMMARY:July 2025:  "Raining Cats & Dogs" Art Exhibition
DESCRIPTION:Ancient Egyptians idealized cats and captured them in art to decorate their Pharaoh’s tombs. Old European Masters painting royalty included their favorite hounds and terriers. We thought it fun to repeat that ancient practice of honoring  cats and dogs in art during the 2025 summer monsoon season while it might be raining dogs and cats.\nAll forms of art are on display representing the love of dogs and cats – in appreciation of our furry friends. \n“Rain or sunshine\, our four-legged friends will be woofing and meowing it up on our walls. “ \nCoordinator: Sandy Johnson
URL:https://placitaslibrary.com/event/july-2025-raining-cats-dogs-art-exhibition/
LOCATION:Placitas Community Library\, 453 HWY 165\, Placitas\, NM\, 87043\, United States
ATTACH;FMTTYPE=image/jpeg:https://placitaslibrary.com/wp-content/uploads/2024/10/Raining-Cats-and-Dogs_Poster_Corrected.jpg
END:VEVENT
BEGIN:VEVENT
DTSTART;TZID=America/Denver:20250716T100000
DTEND;TZID=America/Denver:20250716T110000
DTSTAMP:20260424T105653
CREATED:20240917T201621Z
LAST-MODIFIED:20240919T041703Z
UID:10001471-1752660000-1752663600@placitaslibrary.com
SUMMARY:La Parranda: Club de Español
DESCRIPTION:La Parranda: Club de Español (Every Wed at 10 AM): Enjoy the opportunity to experience español with Diane Herrera Shepard and other guests. The Club is open to anyone who wants to learn\, use\, practice\, or converse in Spanish.
URL:https://placitaslibrary.com/event/la-parranda-club-de-espanol/2025-07-16/
LOCATION:Placitas Community Library\, 453 HWY 165\, Placitas\, NM\, 87043\, United States
CATEGORIES:Adult Programs
ATTACH;FMTTYPE=image/jpeg:https://placitaslibrary.com/wp-content/uploads/2024/05/LA-Parranda-Spanish-Club.jpg
END:VEVENT
BEGIN:VEVENT
DTSTART;TZID=America/Denver:20250713T140000
DTEND;TZID=America/Denver:20250713T160000
DTSTAMP:20260424T105653
CREATED:20250628T194140Z
LAST-MODIFIED:20250628T194140Z
UID:10001755-1752415200-1752422400@placitaslibrary.com
SUMMARY:80th Anniversary of the Trinity Event
DESCRIPTION:Save the date Sunday July 13th at 2 p.m. at the Placitas Library for a special showing of the PBS documentary The Bomb The first half of the movie will be shown leading up to the Trinity explosion\, with time after for serious discussion of the current implications of nuclear weaponry. We encourage those present to share memories of “Duck and Cover” and so many other artifacts of the Cold War.
URL:https://placitaslibrary.com/event/80th-anniversary-of-the-trinity-event/
LOCATION:Placitas Community Library\, 453 HWY 165\, Placitas\, NM\, 87043\, United States
CATEGORIES:Adult Programs,Home
ATTACH;FMTTYPE=image/jpeg:https://placitaslibrary.com/wp-content/uploads/2025/06/F-Trinity-flyer-blue-scaled.jpg
END:VEVENT
BEGIN:VEVENT
DTSTART;TZID=America/Denver:20250712T130000
DTEND;TZID=America/Denver:20250712T130000
DTSTAMP:20260424T105653
CREATED:20250616T215756Z
LAST-MODIFIED:20250616T215756Z
UID:10001752-1752325200-1752325200@placitaslibrary.com
SUMMARY:Childrens Summer Reading Program
DESCRIPTION:See all our events here.
URL:https://placitaslibrary.com/event/childrens-summer-reading-program-3/
LOCATION:Placitas Community Library\, 453 HWY 165\, Placitas\, NM\, 87043\, United States
CATEGORIES:Children's Programs,Home
ATTACH;FMTTYPE=image/jpeg:https://placitaslibrary.com/wp-content/uploads/2025/05/F-Summer-Programs-20251-scaled.jpg
END:VEVENT
BEGIN:VEVENT
DTSTART;TZID=America/Denver:20250709T100000
DTEND;TZID=America/Denver:20250709T110000
DTSTAMP:20260424T105653
CREATED:20240917T201621Z
LAST-MODIFIED:20240919T041703Z
UID:10001470-1752055200-1752058800@placitaslibrary.com
SUMMARY:La Parranda: Club de Español
DESCRIPTION:La Parranda: Club de Español (Every Wed at 10 AM): Enjoy the opportunity to experience español with Diane Herrera Shepard and other guests. The Club is open to anyone who wants to learn\, use\, practice\, or converse in Spanish.
URL:https://placitaslibrary.com/event/la-parranda-club-de-espanol/2025-07-09/
LOCATION:Placitas Community Library\, 453 HWY 165\, Placitas\, NM\, 87043\, United States
CATEGORIES:Adult Programs
ATTACH;FMTTYPE=image/jpeg:https://placitaslibrary.com/wp-content/uploads/2024/05/LA-Parranda-Spanish-Club.jpg
END:VEVENT
BEGIN:VEVENT
DTSTART;TZID=America/Denver:20250702T100000
DTEND;TZID=America/Denver:20250702T110000
DTSTAMP:20260424T105653
CREATED:20240917T201621Z
LAST-MODIFIED:20240919T041703Z
UID:10001469-1751450400-1751454000@placitaslibrary.com
SUMMARY:La Parranda: Club de Español
DESCRIPTION:La Parranda: Club de Español (Every Wed at 10 AM): Enjoy the opportunity to experience español with Diane Herrera Shepard and other guests. The Club is open to anyone who wants to learn\, use\, practice\, or converse in Spanish.
URL:https://placitaslibrary.com/event/la-parranda-club-de-espanol/2025-07-02/
LOCATION:Placitas Community Library\, 453 HWY 165\, Placitas\, NM\, 87043\, United States
CATEGORIES:Adult Programs
ATTACH;FMTTYPE=image/jpeg:https://placitaslibrary.com/wp-content/uploads/2024/05/LA-Parranda-Spanish-Club.jpg
END:VEVENT
BEGIN:VEVENT
DTSTART;TZID=America/Denver:20250628T130000
DTEND;TZID=America/Denver:20250628T130000
DTSTAMP:20260424T105653
CREATED:20250616T215541Z
LAST-MODIFIED:20250616T215642Z
UID:10001751-1751115600-1751115600@placitaslibrary.com
SUMMARY:Childrens Summer Reading Program
DESCRIPTION:See all our events here.
URL:https://placitaslibrary.com/event/childrens-summer-reading-program-2/
LOCATION:Placitas Community Library\, 453 HWY 165\, Placitas\, NM\, 87043\, United States
CATEGORIES:Children's Programs,Home
ATTACH;FMTTYPE=image/jpeg:https://placitaslibrary.com/wp-content/uploads/2025/05/F-Summer-Programs-20251-scaled.jpg
END:VEVENT
BEGIN:VEVENT
DTSTART;TZID=America/Denver:20250627T170000
DTEND;TZID=America/Denver:20250627T183000
DTSTAMP:20260424T105653
CREATED:20241020T020213Z
LAST-MODIFIED:20241020T020213Z
UID:10001705-1751043600-1751049000@placitaslibrary.com
SUMMARY:June 2025 Artist Reception:  "Assemblage"
DESCRIPTION:Parcels become a parcel.
URL:https://placitaslibrary.com/event/june-2025-artist-reception-assemblage/
LOCATION:Placitas Community Library\, 453 HWY 165\, Placitas\, NM\, 87043\, United States
CATEGORIES:Art Exhibit,Library Schedule
ATTACH;FMTTYPE=image/jpeg:https://placitaslibrary.com/wp-content/uploads/2024/10/Garrett-2009-Assemblage-on-board-by-Zac-Freeman.jpg
END:VEVENT
BEGIN:VEVENT
DTSTART;TZID=America/Denver:20250625T100000
DTEND;TZID=America/Denver:20250625T110000
DTSTAMP:20260424T105653
CREATED:20240917T201621Z
LAST-MODIFIED:20240919T041703Z
UID:10001468-1750845600-1750849200@placitaslibrary.com
SUMMARY:La Parranda: Club de Español
DESCRIPTION:La Parranda: Club de Español (Every Wed at 10 AM): Enjoy the opportunity to experience español with Diane Herrera Shepard and other guests. The Club is open to anyone who wants to learn\, use\, practice\, or converse in Spanish.
URL:https://placitaslibrary.com/event/la-parranda-club-de-espanol/2025-06-25/
LOCATION:Placitas Community Library\, 453 HWY 165\, Placitas\, NM\, 87043\, United States
CATEGORIES:Adult Programs
ATTACH;FMTTYPE=image/jpeg:https://placitaslibrary.com/wp-content/uploads/2024/05/LA-Parranda-Spanish-Club.jpg
END:VEVENT
BEGIN:VEVENT
DTSTART;TZID=America/Denver:20250621T130000
DTEND;TZID=America/Denver:20250621T150000
DTSTAMP:20260424T105653
CREATED:20250616T214930Z
LAST-MODIFIED:20250616T215104Z
UID:10001750-1750510800-1750518000@placitaslibrary.com
SUMMARY:Childrens Summer Reading Program
DESCRIPTION:See all our events here.
URL:https://placitaslibrary.com/event/childrens-summer-reading-program/
LOCATION:Placitas Community Library\, 453 HWY 165\, Placitas\, NM\, 87043\, United States
CATEGORIES:Children's Programs,Home
ATTACH;FMTTYPE=image/jpeg:https://placitaslibrary.com/wp-content/uploads/2025/05/F-Summer-Programs-20251-scaled.jpg
END:VEVENT
BEGIN:VEVENT
DTSTART;TZID=America/Denver:20250618T100000
DTEND;TZID=America/Denver:20250618T110000
DTSTAMP:20260424T105653
CREATED:20240917T201621Z
LAST-MODIFIED:20240919T041703Z
UID:10001467-1750240800-1750244400@placitaslibrary.com
SUMMARY:La Parranda: Club de Español
DESCRIPTION:La Parranda: Club de Español (Every Wed at 10 AM): Enjoy the opportunity to experience español with Diane Herrera Shepard and other guests. The Club is open to anyone who wants to learn\, use\, practice\, or converse in Spanish.
URL:https://placitaslibrary.com/event/la-parranda-club-de-espanol/2025-06-18/
LOCATION:Placitas Community Library\, 453 HWY 165\, Placitas\, NM\, 87043\, United States
CATEGORIES:Adult Programs
ATTACH;FMTTYPE=image/jpeg:https://placitaslibrary.com/wp-content/uploads/2024/05/LA-Parranda-Spanish-Club.jpg
END:VEVENT
BEGIN:VEVENT
DTSTART;VALUE=DATE:20250614
DTEND;VALUE=DATE:20250718
DTSTAMP:20260424T105653
CREATED:20241020T015430Z
LAST-MODIFIED:20250613T233409Z
UID:10001704-1749859200-1752796799@placitaslibrary.com
SUMMARY:June 2025:  "Assemblage" Art Exhibition
DESCRIPTION:Assemblage is a technique used by artists to contribute to the overall texture and visual interest of their art and to give it a new context and aesthetic value. \nUnlike collage\, a two-dimensional art form that combines flat images to suggest depth and explore spatial relationships\, assemblage combines actual multidimensional objects into an artistic whole\, whether free standing or projecting into space from the wall. \nUsing everyday items\, discarded materials\, or natural objects\, this exhibition will present work from artists that incorporate their own life experiences into a unique mixed media constructions. \nSubmissions accepted:  March 14 – May 13 \nCoordinators:  Rebecca Cohen & Colleen Gregoire \n\n  \n 
URL:https://placitaslibrary.com/event/june-2025-assemblage/
LOCATION:Placitas Community Library\, 453 HWY 165\, Placitas\, NM\, 87043\, United States
CATEGORIES:Art Exhibit,Library Schedule
ATTACH;FMTTYPE=image/jpeg:https://placitaslibrary.com/wp-content/uploads/2025/01/Assemblage-Poster-with-Artists-List.jpg
END:VEVENT
BEGIN:VEVENT
DTSTART;TZID=America/Denver:20250611T100000
DTEND;TZID=America/Denver:20250611T110000
DTSTAMP:20260424T105653
CREATED:20240917T201621Z
LAST-MODIFIED:20240919T041703Z
UID:10001466-1749636000-1749639600@placitaslibrary.com
SUMMARY:La Parranda: Club de Español
DESCRIPTION:La Parranda: Club de Español (Every Wed at 10 AM): Enjoy the opportunity to experience español with Diane Herrera Shepard and other guests. The Club is open to anyone who wants to learn\, use\, practice\, or converse in Spanish.
URL:https://placitaslibrary.com/event/la-parranda-club-de-espanol/2025-06-11/
LOCATION:Placitas Community Library\, 453 HWY 165\, Placitas\, NM\, 87043\, United States
CATEGORIES:Adult Programs
ATTACH;FMTTYPE=image/jpeg:https://placitaslibrary.com/wp-content/uploads/2024/05/LA-Parranda-Spanish-Club.jpg
END:VEVENT
BEGIN:VEVENT
DTSTART;TZID=America/Denver:20250607T130000
DTEND;TZID=America/Denver:20250607T150000
DTSTAMP:20260424T105653
CREATED:20250522T220143Z
LAST-MODIFIED:20250522T220143Z
UID:10001749-1749301200-1749308400@placitaslibrary.com
SUMMARY:Summer Reading Program: Color Our World
DESCRIPTION:Opening event: Join us at the Placitas Community Library for our summer reading programs.  All programs are on Saturdays at 1:00 starting June 7.  Our theme is “Color Our World” – all about art and artists.  Your children will have an opportunity to experience and create a variety of art forms.  We will start on June 7 with a dog comedy about the missing Mona Lisa painting from the Louvre art gallery in Paris\, France and end on July 26 with Explora helping your children to do colorful experiments. In between\, there will opportunities to be creative and learn new art techniques.  On June 28\,  awarding winning Navajo children’s author and illustrator\, Daniel Vendever\, will read from his books.
URL:https://placitaslibrary.com/event/summer-reading-program-color-our-world/
LOCATION:Placitas Community Library\, 453 HWY 165\, Placitas\, NM\, 87043\, United States
CATEGORIES:Children's Programs,Home
ATTACH;FMTTYPE=image/jpeg:https://placitaslibrary.com/wp-content/uploads/2025/05/F-Summer-Programs-20251-scaled.jpg
END:VEVENT
BEGIN:VEVENT
DTSTART;TZID=America/Denver:20250604T100000
DTEND;TZID=America/Denver:20250604T110000
DTSTAMP:20260424T105653
CREATED:20240917T201621Z
LAST-MODIFIED:20240919T041703Z
UID:10001465-1749031200-1749034800@placitaslibrary.com
SUMMARY:La Parranda: Club de Español
DESCRIPTION:La Parranda: Club de Español (Every Wed at 10 AM): Enjoy the opportunity to experience español with Diane Herrera Shepard and other guests. The Club is open to anyone who wants to learn\, use\, practice\, or converse in Spanish.
URL:https://placitaslibrary.com/event/la-parranda-club-de-espanol/2025-06-04/
LOCATION:Placitas Community Library\, 453 HWY 165\, Placitas\, NM\, 87043\, United States
CATEGORIES:Adult Programs
ATTACH;FMTTYPE=image/jpeg:https://placitaslibrary.com/wp-content/uploads/2024/05/LA-Parranda-Spanish-Club.jpg
END:VEVENT
BEGIN:VEVENT
DTSTART;TZID=America/Denver:20250528T100000
DTEND;TZID=America/Denver:20250528T110000
DTSTAMP:20260424T105653
CREATED:20240917T201621Z
LAST-MODIFIED:20240919T041703Z
UID:10001464-1748426400-1748430000@placitaslibrary.com
SUMMARY:La Parranda: Club de Español
DESCRIPTION:La Parranda: Club de Español (Every Wed at 10 AM): Enjoy the opportunity to experience español with Diane Herrera Shepard and other guests. The Club is open to anyone who wants to learn\, use\, practice\, or converse in Spanish.
URL:https://placitaslibrary.com/event/la-parranda-club-de-espanol/2025-05-28/
LOCATION:Placitas Community Library\, 453 HWY 165\, Placitas\, NM\, 87043\, United States
CATEGORIES:Adult Programs
ATTACH;FMTTYPE=image/jpeg:https://placitaslibrary.com/wp-content/uploads/2024/05/LA-Parranda-Spanish-Club.jpg
END:VEVENT
BEGIN:VEVENT
DTSTART;TZID=America/Denver:20250524T140000
DTEND;TZID=America/Denver:20250524T150000
DTSTAMP:20260424T105653
CREATED:20250409T190837Z
LAST-MODIFIED:20250409T190837Z
UID:10001746-1748095200-1748098800@placitaslibrary.com
SUMMARY:Exploring Cannabis for Wellness
DESCRIPTION:Kelly Butterman explains the science and potential benefits of cannabis.
URL:https://placitaslibrary.com/event/exploring-cannabis-for-wellness/
LOCATION:Placitas Community Library\, 453 HWY 165\, Placitas\, NM\, 87043\, United States
CATEGORIES:Adult Programs,Home
ATTACH;FMTTYPE=image/jpeg:https://placitaslibrary.com/wp-content/uploads/2025/04/F-Cannabis.jpg
END:VEVENT
BEGIN:VEVENT
DTSTART;TZID=America/Denver:20250523T170000
DTEND;TZID=America/Denver:20250523T183000
DTSTAMP:20260424T105653
CREATED:20241020T014207Z
LAST-MODIFIED:20250613T233316Z
UID:10001703-1748019600-1748025000@placitaslibrary.com
SUMMARY:May 2025 Artist Reception:  "Operation Art:  A Salute to Veteran Artists"
DESCRIPTION:All 33 featured artists are members of New Mexico Veteran Art\, a 501(c)(3) nonprofit dedicated to supporting and showcasing the creative talents of military personnel\, past and present\, and their families. \nThe artist reception will begin with a Presentation of Colors by the Women Warriors Color Guard of Albuquerque. Guests can enjoy refreshments and browse a selection of books available for purchase. \nAll artwork on display will be available for sale.
URL:https://placitaslibrary.com/event/may-2025-artist-reception-operation-art-a-salute-to-veteran-artists/
LOCATION:Placitas Community Library\, 453 HWY 165\, Placitas\, NM\, 87043\, United States
CATEGORIES:Art Exhibit,Library Schedule
ATTACH;FMTTYPE=image/jpeg:https://placitaslibrary.com/wp-content/uploads/2024/10/71d6P17YerL.jpg
END:VEVENT
BEGIN:VEVENT
DTSTART;TZID=America/Denver:20250521T100000
DTEND;TZID=America/Denver:20250521T110000
DTSTAMP:20260424T105653
CREATED:20240917T201621Z
LAST-MODIFIED:20240919T041703Z
UID:10001463-1747821600-1747825200@placitaslibrary.com
SUMMARY:La Parranda: Club de Español
DESCRIPTION:La Parranda: Club de Español (Every Wed at 10 AM): Enjoy the opportunity to experience español with Diane Herrera Shepard and other guests. The Club is open to anyone who wants to learn\, use\, practice\, or converse in Spanish.
URL:https://placitaslibrary.com/event/la-parranda-club-de-espanol/2025-05-21/
LOCATION:Placitas Community Library\, 453 HWY 165\, Placitas\, NM\, 87043\, United States
CATEGORIES:Adult Programs
ATTACH;FMTTYPE=image/jpeg:https://placitaslibrary.com/wp-content/uploads/2024/05/LA-Parranda-Spanish-Club.jpg
END:VEVENT
BEGIN:VEVENT
DTSTART;TZID=America/Denver:20250518T130000
DTEND;TZID=America/Denver:20250518T150000
DTSTAMP:20260424T105653
CREATED:20250418T182706Z
LAST-MODIFIED:20250418T205621Z
UID:10001748-1747573200-1747580400@placitaslibrary.com
SUMMARY:Summer Reading Program Party
DESCRIPTION:Summer Reading Party where you can learn all about our summer activities and sign up for the  reading challenge. Our special guest is Ziggy Prothro representing the New Mexico Office of Archaeological Studies. Ziggy and her son Vincent will teach your children how to play the snake game\, Ginebig. We will have prizes\, raffles\, and book giveaways all summer.
URL:https://placitaslibrary.com/event/summer-reading-program-party/
LOCATION:Placitas Community Library\, 453 HWY 165\, Placitas\, NM\, 87043\, United States
CATEGORIES:Children's Programs,Home
ATTACH;FMTTYPE=image/jpeg:https://placitaslibrary.com/wp-content/uploads/2025/04/F-Summer-Reading-Party-scaled.jpg
END:VEVENT
BEGIN:VEVENT
DTSTART;TZID=America/Denver:20250517T140000
DTEND;TZID=America/Denver:20250517T160000
DTSTAMP:20260424T105653
CREATED:20250322T204751Z
LAST-MODIFIED:20250322T205124Z
UID:10001740-1747490400-1747497600@placitaslibrary.com
SUMMARY:Talking with family about money is hard: How can we make it easier?
DESCRIPTION:This seminar presented by Kelley and Ric Tredwin of Altalune provides some tools and framework for positively engaging in money conversations with your spouse\, children (young or adult) or aging parents.
URL:https://placitaslibrary.com/event/talking-with-family-about-money-is-hard-how-can-we-make-it-easier/
LOCATION:Placitas Community Library\, 453 HWY 165\, Placitas\, NM\, 87043\, United States
CATEGORIES:Adult Programs,Home,Public
ATTACH;FMTTYPE=image/jpeg:https://placitaslibrary.com/wp-content/uploads/2025/03/Finance-3-11-25.jpg
END:VEVENT
BEGIN:VEVENT
DTSTART;TZID=America/Denver:20250517T140000
DTEND;TZID=America/Denver:20250517T153000
DTSTAMP:20260424T105653
CREATED:20250409T190437Z
LAST-MODIFIED:20250409T190437Z
UID:10001745-1747490400-1747495800@placitaslibrary.com
SUMMARY:Fun Recipes for Fitness\, Aging\, and Mental Wellness
DESCRIPTION:Come join our panel discussion and bring your questions!
URL:https://placitaslibrary.com/event/fun-recipes-for-fitness-aging-and-mental-wellness/
LOCATION:Placitas Community Library\, 453 HWY 165\, Placitas\, NM\, 87043\, United States
CATEGORIES:Adult Programs,Home
ATTACH;FMTTYPE=image/jpeg:https://placitaslibrary.com/wp-content/uploads/2025/04/F-Recipes.jpg
END:VEVENT
BEGIN:VEVENT
DTSTART;TZID=America/Denver:20250514T100000
DTEND;TZID=America/Denver:20250514T110000
DTSTAMP:20260424T105653
CREATED:20240917T201621Z
LAST-MODIFIED:20240919T041703Z
UID:10001462-1747216800-1747220400@placitaslibrary.com
SUMMARY:La Parranda: Club de Español
DESCRIPTION:La Parranda: Club de Español (Every Wed at 10 AM): Enjoy the opportunity to experience español with Diane Herrera Shepard and other guests. The Club is open to anyone who wants to learn\, use\, practice\, or converse in Spanish.
URL:https://placitaslibrary.com/event/la-parranda-club-de-espanol/2025-05-14/
LOCATION:Placitas Community Library\, 453 HWY 165\, Placitas\, NM\, 87043\, United States
CATEGORIES:Adult Programs
ATTACH;FMTTYPE=image/jpeg:https://placitaslibrary.com/wp-content/uploads/2024/05/LA-Parranda-Spanish-Club.jpg
END:VEVENT
END:VCALENDAR